BEGIN:VCALENDAR
VERSION:2.0
PRODID:-//ChamberMaster//Event Calendar 2.0//EN
METHOD:PUBLISH
X-PUBLISHED-TTL:P3D
REFRESH-INTERVAL:P3D
CALSCALE:GREGORIAN
BEGIN:VEVENT
DTSTART;VALUE=DATE:20220507
DTEND;VALUE=DATE:20220508
TRANSP:TRANSPARENT
X-MICROSOFT-CDO-ALLDAYEVENT:TRUE
SUMMARY:Best Buddies Central Massachusetts Friendship Walk
DESCRIPTION:Best Buddies will be hosting the annual Central Massachusetts Friendship Walk on Saturday May 7th at Polar Park. If you are interested in participating with a team\, sponsorship opportunities\, or volunteering to help with this event\, please contact KaraFalcone@BestBuddies.org. Visit https://www.bestbuddiesfriendshipwalk.org/centralmass/ or www.bestbuddies.org/mari for more info.
X-ALT-DESC;FMTTYPE=text/html:Best Buddies will be hosting the annual Central Massachusetts Friendship Walk on Saturday May 7<sup>th</sup> at Polar Park. If you are interested in participating with a team\, sponsorship opportunities\, or volunteering to help with this event\, please contact <a href="mailto:KaraFalcone@BestBuddies.org">KaraFalcone@BestBuddies.org</a>. Visit <a href="https://www.bestbuddiesfriendshipwalk.org/centralmass/">https://www.bestbuddiesfriendshipwalk.org/centralmass/</a> or <a href="http://www.bestbuddies.org/mari">www.bestbuddies.org/mari</a> for more info.<br />\n<br />\n&nbsp\;
LOCATION:Polar Park
UID:e.2083.13729
SEQUENCE:3
DTSTAMP:20260421T215444Z
URL:https://business.cmschamber.org/events/details/best-buddies-central-massachusetts-friendship-walk-13729
END:VEVENT

END:VCALENDAR
