BEGIN:VCALENDAR
VERSION:2.0
PRODID:-//ChamberMaster//Event Calendar 2.0//EN
METHOD:PUBLISH
X-PUBLISHED-TTL:P3D
REFRESH-INTERVAL:P3D
CALSCALE:GREGORIAN
BEGIN:VEVENT
DTSTART:20220315T190000Z
DTEND:20220315T200000Z
X-MICROSOFT-CDO-ALLDAYEVENT:FALSE
SUMMARY:Beyond Backup (3T@3 Webcast Series)
DESCRIPTION:We all know that we need to backup our data and our systems. The vast majority of us have backup solutions in place. Most of us will be able to restore our data or recover from a disaster. Only a few of us will be able to do so with minimum disruption to our businesses and our lives.\n\nBeing able to restore data is not an option. The real measure of success is how quickly you can get back to work.\n\nIn our March 3T@3 Webcast\, Cumulus Global CEO Allen Falcon looks at evolving business needs for data protection and business continuity. He will discuss the difference between "mean time to recovery" (MTTR) and "Return to Normal Operations" (RTO) and how these measures impact your business. He will also map out how restore\, recovery\, and continuity solutions offer different value propositions for you and your business and how to look at total cost and impact when selecting your solution.  \n\nPlease join us\, and bring your questions\, for this informative session.  If you register and cannot attend\, we will send you link to view the recording on-demand.
X-ALT-DESC;FMTTYPE=text/html:<p><span style="background-color:transparent\; color:rgb(0\, 0\, 0)\; font-family:arial\; font-size:11pt">We all know that we need to backup our data and our systems. The vast majority of us have backup solutions in place. Most of us will be able to restore our data or recover from a disaster. Only a few of us will be able to do so with minimum disruption to our businesses and our lives.</span></p>\n\n<p><strong>Being able to restore data is not an option. The real measure of success is how quickly you can get back to work.</strong></p>\n\n<p><span style="background-color:transparent\; color:rgb(0\, 0\, 0)\; font-family:arial\; font-size:11pt">In our March </span><em>3T@3 Webcast</em><span style="background-color:transparent\; color:rgb(0\, 0\, 0)\; font-family:arial\; font-size:11pt">\, Cumulus Global CEO Allen Falcon looks at evolving business needs for data protection and business continuity. He will discuss the difference between &ldquo\;mean time to recovery&rdquo\; (MTTR) and &ldquo\;Return to Normal Operations&rdquo\; (RTO) and how these measures impact your business. He will also map out how restore\, recovery\, and continuity solutions offer different value propositions for you and your business and how to look at total cost and impact when selecting your solution.&nbsp\;&nbsp\;</span></p>\n\n<p><span style="background-color:transparent\; color:rgb(0\, 0\, 0)\; font-family:arial\; font-size:11pt">Please join us\, and bring your questions\, for this informative session.&nbsp\; <em>If you register and cannot attend\, we will send you link to view the recording on-demand.</em></span></p>\n
LOCATION:Live Webcast: Click here to Register Now.
UID:e.2083.13815
SEQUENCE:3
DTSTAMP:20260422T004133Z
URL:https://business.cmschamber.org/events/details/beyond-backup-3t-3-webcast-series-13815
END:VEVENT

END:VCALENDAR
