BEGIN:VCALENDAR
VERSION:2.0
PRODID:-//ChamberMaster//Event Calendar 2.0//EN
METHOD:PUBLISH
X-PUBLISHED-TTL:P3D
REFRESH-INTERVAL:P3D
CALSCALE:GREGORIAN
BEGIN:VEVENT
DTSTART:20230216T223000Z
DTEND:20230217T010000Z
X-MICROSOFT-CDO-ALLDAYEVENT:FALSE
SUMMARY:Black Entrepreneur Business Summit
DESCRIPTION:Celebrate Black History Month with the The Center for Women & Enterprise of Central MA Women Business Center and Positively Suzanne LLC at the Black Entrepreneurs Business Summit on Thursday\, February 16 from 5:30 PM   8:00 PM at the Unum Building located at 1 Mercantile St. Worcester MA. \n\nThis free\, two-hour Summit is aimed at helping black business owners at the startup\, growth phases. It will also focus on how to sustain your business as well. Program includes four 30 minutes-min workshops. A limited number of free headshots will be available and light refreshments will be served.\n\nProgram Agenda\n\n\n	Getting Started   Where Do I Begin?\n\n\n          Learn the basics of starting your business with Marianne Lancaster\, CWE Central MA Advisory Board member and CEO of Lancaster Packaging\n\n\n	Let's Talk Funding- How Does Business Lending work\n\n\n          Learn how to obtain funding by understanding Business Lending with Jetari Veal Assistant Vice President and Financial Wellness Coach at Workers Credit Union\n\n\n	Health + Wellness = Wealth\n\n\n          Learn how to take care of your physical and mental health as an entrepreneur with Suzanne Graham-Anderson - CWE Central MA Advisory Board member and CEO of Positively Suzanne LLC. \n\n\n	Best Practices in Marketing to grow your business\n\n\n          Learn how to optimize different marketing practices for growth and success in your business with Jennifer Hernandez\, CWE Central MA Advisory Board member\, instructor\, consultant and the CEO & Director of Strategic Marketing at GEM marketing Solutions.
X-ALT-DESC;FMTTYPE=text/html:<p>Celebrate Black History Month with the&nbsp\;The Center for Women &amp\; Enterprise of Central MA Women Business Center and&nbsp\;<span style="color:rgb(0\, 0\, 255)"><a href="https://www.positivelysuzanne.com/" style="color: rgb(45\, 119\, 179)\; text-decoration-line: none\;"><span style="color:rgb(0\, 0\, 255)">Positively Suzanne LLC</span></a></span>&nbsp\;at the&nbsp\;<strong>Black Entrepreneurs Business Summit</strong>&nbsp\;on Thursday\, February 16 from 5:30 PM &ndash\; 8:00 PM at the Unum Building located at 1 Mercantile St. Worcester MA.&nbsp\;</p>\n\n<p>This free\, two-hour Summit is aimed at helping black business owners at the startup\, growth phases. It will also focus on how to sustain your business as well. Program includes four 30 minutes-min workshops. A limited number of free headshots will be available and light refreshments will be served.</p>\n\n<p><strong>Program Agenda</strong></p>\n\n<ul>\n	<li><strong>Getting Started &ndash\; Where Do I Begin?</strong></li>\n</ul>\n\n<p><em>&nbsp\; &nbsp\; &nbsp\; &nbsp\; &nbsp\; Learn the basics of starting your business with Marianne Lancaster\, CWE Central MA Advisory Board member and CEO of Lancaster Packaging</em></p>\n\n<ul>\n	<li><strong>Let&rsquo\;s Talk Funding- How Does Business Lending work</strong></li>\n</ul>\n\n<p><em>&nbsp\; &nbsp\; &nbsp\; &nbsp\; &nbsp\; Learn how to obtain funding by understanding Business Lending with Jetari Veal Assistant Vice President and Financial Wellness Coach at Workers&nbsp\;</em><em>Credit Union</em></p>\n\n<ul>\n	<li><strong>Health + Wellness = Wealth</strong></li>\n</ul>\n\n<p><em>&nbsp\; &nbsp\; &nbsp\; &nbsp\; &nbsp\; Learn how to take care of your physical and mental health as an entrepreneur with Suzanne Graham-Anderson - CWE Central MA Advisory Board member and CEO of Positively Suzanne LLC.&nbsp\;</em></p>\n\n<ul>\n	<li><strong>Best Practices in Marketing to grow your business</strong></li>\n</ul>\n\n<p><em>&nbsp\; &nbsp\; &nbsp\; &nbsp\; &nbsp\; Learn how to optimize different marketing practices for growth and success in your business with Jennifer Hernandez\, CWE Central MA Advisory&nbsp\;</em><em>Board member\, instructor\, consultant and the CEO &amp\; Director of Strategic Marketing at GEM marketing Solutions.</em></p>\n
LOCATION:Unum Building\, 1 Mercantile St. \, Worcester MA 01608
UID:e.2083.15046
SEQUENCE:3
DTSTAMP:20260421T074836Z
URL:https://business.cmschamber.org/events/details/black-entrepreneur-business-summit-15046
END:VEVENT

END:VCALENDAR
