BEGIN:VCALENDAR
VERSION:2.0
PRODID:-//ChamberMaster//Event Calendar 2.0//EN
METHOD:PUBLISH
X-PUBLISHED-TTL:P3D
REFRESH-INTERVAL:P3D
CALSCALE:GREGORIAN
BEGIN:VEVENT
DTSTART:20220804T130000Z
DTEND:20220804T193000Z
X-MICROSOFT-CDO-ALLDAYEVENT:FALSE
SUMMARY:Blood Drive\, Sponsored by Rockland Trust on behalf of Brigham and Women's Hospital and the Dana-Farber Cancer Institute
DESCRIPTION:Blood Drive\, Sponsored by Rockland Trust Bank. \n\nFor appointments:\n\nLogon - Brigham and Women's Hospital - Donor Portal (kraftfamilyblooddonorcenter.org)\n\nEligibility Questions: Email BloodDonor@partners.org\n\nOr\n\nall 617-632-3206
X-ALT-DESC;FMTTYPE=text/html:Blood Drive\, Sponsored by Rockland Trust Bank.&nbsp\;<br />\nFor appointments:<br />\nLogon -&nbsp\;<a href="https://donor.kraftfamilyblooddonorcenter.org/donor/schedules/drive_schedule/3008">Brigham and Women&#39\;s Hospital - Donor Portal (kraftfamilyblooddonorcenter.org)</a><br />\nEligibility Questions: Email BloodDonor@partners.org<br />\nOr<br />\nall 617-632-3206
LOCATION:Rockland Trust Bank 967 Grafton St. Worcester\, MA 01604
UID:e.2083.14023
SEQUENCE:3
DTSTAMP:20260421T190642Z
URL:https://business.cmschamber.org/events/details/blood-drive-sponsored-by-rockland-trust-on-behalf-of-brigham-and-women-s-hospital-and-the-dana-farber-cancer-institute-14023
END:VEVENT

END:VCALENDAR
