BEGIN:VCALENDAR
VERSION:2.0
PRODID:-//ChamberMaster//Event Calendar 2.0//EN
METHOD:PUBLISH
X-PUBLISHED-TTL:P3D
REFRESH-INTERVAL:P3D
CALSCALE:GREGORIAN
BEGIN:VEVENT
DTSTART:20220302T170000Z
DTEND:20220302T180000Z
X-MICROSOFT-CDO-ALLDAYEVENT:FALSE
SUMMARY:Book(keeping!) Group
DESCRIPTION:Do you know you need to work on your business finances\, but don't know where to start?\n\nDo you feel disappointed every time you find the courage to work on your finances only to end up going down the Google rabbit hole?\n\nDo you need structure in your finances to simplify your bookkeeping process?\n\nIf this is you\, join this monthly drop-in Book(keeping!) Club to get the structure and support you need to take charge of your business finances! Whether you are a startup business\, or you've been operating for a while\, this hands-on working group will introduce basic best practices for bookkeeping and financial management\, provide non-judgmental peer support to move through barriers\, and allow space for individual questions and time to work on your books. Participants will be encouraged to have an accounting software.\n\nJanette Gallardo\, founder of Vitta Solutions will facilitate group discussions about relevant topics for setting up and maintaining your bookkeeping systems and general financial management and arrange breakout rooms for small group working sessions. Topics will include learning how to structure you finances so you can simplify your current process\, setting up a chart of accounts\, categorizing transactions\, setting financial goals\, pricing your products and services\, and generating and understanding basic financial reports.
X-ALT-DESC;FMTTYPE=text/html:<p>Do you know you need to work on your business finances\, but don&rsquo\;t know where to start?</p>\n\n<p>Do you feel disappointed every time you find the courage to work on your finances only to end up going down the Google rabbit hole?</p>\n\n<p>Do you need structure in your finances to simplify your bookkeeping process?</p>\n\n<p>If this is you\, join this monthly drop-in Book(keeping!) Club to get the structure and support you need to take charge of your business finances! Whether you are a startup business\, or you&rsquo\;ve been operating for a while\, this&nbsp\;<strong><em>hands-on</em></strong><em>&nbsp\;</em><strong><em>working group</em></strong>&nbsp\;will introduce basic best practices for bookkeeping and financial management\, provide non-judgmental peer support to move through barriers\, and allow space for individual questions and time to work on your books. Participants will be encouraged to have an accounting software.</p>\n\n<p>Janette Gallardo\, founder of Vitta Solutions will facilitate group discussions about relevant topics for setting up and maintaining your bookkeeping systems and general financial management and arrange breakout rooms for small group working sessions. Topics will include learning how to structure you finances so you can simplify your current process\, setting up a chart of accounts\, categorizing transactions\, setting financial goals\, pricing your products and services\, and generating and understanding basic financial reports.&nbsp\;</p>\n
LOCATION:Zoom
UID:e.2083.13818
SEQUENCE:3
DTSTAMP:20260422T004044Z
URL:https://business.cmschamber.org/events/details/book-keeping-group-13818
END:VEVENT

END:VCALENDAR
