BEGIN:VCALENDAR
VERSION:2.0
PRODID:-//ChamberMaster//Event Calendar 2.0//EN
METHOD:PUBLISH
X-PUBLISHED-TTL:P3D
REFRESH-INTERVAL:P3D
CALSCALE:GREGORIAN
BEGIN:VEVENT
DTSTART:20210312T180000Z
DTEND:20210312T203000Z
X-MICROSOFT-CDO-ALLDAYEVENT:FALSE
SUMMARY:Book Making: Winter Nature Journal
DESCRIPTION:Book Making: Winter Nature Journal This program will be held indoors in one of our well-ventilated classrooms. Group size will not exceed current state restrictions. Friday\, March 12\, 2021 1:00-3:30 PM Instructor: Suzanne Hauerstein Max Participants: 10 Sew your own softcover nature journal with pockets for holding outdoor finds. Learn to hone your observational skills to record winter nature sights and sounds. Weather permitting we will go outside and test out our journals. All material is included. Suzanne Hauerstein is a professional teaching artist and the Coordinator of Volunteer & Intern Services at Tower Hill. She has over 25 years of experience designing and facilitating art-based programs for informal learning environments. Suzanne is committed to creating programs that are accessible\, positive\, and enjoyable learning experiences for students of all ages and abilities. Single class scheduled on 3/12/2021 at 1:00PM
X-ALT-DESC;FMTTYPE=text/html:Book Making: Winter Nature Journal This program will be held indoors in one of our well-ventilated classrooms. Group size will not exceed current state restrictions. Friday\, March 12\, 2021 1:00-3:30 PM Instructor: Suzanne Hauerstein Max Participants: 10 Sew your own softcover nature journal with pockets for holding outdoor finds. Learn to hone your observational skills to record winter nature sights and sounds. Weather permitting we will go outside and test out our journals. All material is included. Suzanne Hauerstein is a professional teaching artist and the Coordinator of Volunteer &amp\; Intern Services at Tower Hill. She has over 25 years of experience designing and facilitating art-based programs for informal learning environments. Suzanne is committed to creating programs that are accessible\, positive\, and enjoyable learning experiences for students of all ages and abilities. Single class scheduled on 3/12/2021 at 1:00PM
LOCATION:Tower Hill Botanic Garden 11 French Drive Boylston
UID:e.2083.12702
SEQUENCE:3
DTSTAMP:20260422T192309Z
URL:https://business.cmschamber.org/events/details/book-making-winter-nature-journal-12702
END:VEVENT

END:VCALENDAR
