BEGIN:VCALENDAR
VERSION:2.0
PRODID:-//ChamberMaster//Event Calendar 2.0//EN
METHOD:PUBLISH
X-PUBLISHED-TTL:P3D
REFRESH-INTERVAL:P3D
CALSCALE:GREGORIAN
BEGIN:VEVENT
DTSTART:20230509T140000Z
DTEND:20230510T210000Z
X-MICROSOFT-CDO-ALLDAYEVENT:FALSE
SUMMARY:Boots to Business Reboot for Veteran Farmers & Ranchers
DESCRIPTION:On behalf of the Veterans Business Outreach Center of New England\, in partnership with the USDA\, we are pleased to share Boots to Business for Farmers and Ranchers.  This two-day virtual workshop on May 9 & 10th is specifically designed for veterans\, transitioning service members\, and military spouses interested in exploring agricultural-related entrepreneurship. We are grateful to have presenters from the USDA Farm Service Agency\, Rural Development and Risk Management\, AgrAbility\, and farmer veterans on every module.
X-ALT-DESC;FMTTYPE=text/html:<span style="color:rgb(0\, 0\, 0)\; font-family:lato\,arial\,helvetica\,sans-serif\; font-size:16px">On behalf of the Veterans Business Outreach Center of New England\,&nbsp\;</span><em>in partnership with the USDA</em><span style="color:rgb(0\, 0\, 0)\; font-family:lato\,arial\,helvetica\,sans-serif\; font-size:16px">\, we are pleased to share&nbsp\;</span><strong>Boots to Business for Farmers and Ranchers. &nbsp\;</strong><span style="color:rgb(0\, 0\, 0)\; font-family:lato\,arial\,helvetica\,sans-serif\; font-size:16px">This two-day virtual workshop on May 9 &amp\; 10</span><sup>th</sup><span style="color:rgb(0\, 0\, 0)\; font-family:lato\,arial\,helvetica\,sans-serif\; font-size:16px">&nbsp\;is&nbsp\;</span><strong>specifically designed for veterans\, transitioning service members\, and military spouses</strong><span style="color:rgb(0\, 0\, 0)\; font-family:lato\,arial\,helvetica\,sans-serif\; font-size:16px">&nbsp\;interested in exploring&nbsp\;</span><strong>agricultural-related entrepreneurship</strong><span style="color:rgb(0\, 0\, 0)\; font-family:lato\,arial\,helvetica\,sans-serif\; font-size:16px">. We are grateful to have presenters from the USDA Farm Service Agency\, Rural Development and Risk Management\, AgrAbility\, and farmer veterans on every module.</span>\n<div>&nbsp\;</div>\n
LOCATION:Zoom
UID:e.2083.15935
SEQUENCE:3
DTSTAMP:20260421T024848Z
URL:https://business.cmschamber.org/events/details/boots-to-business-reboot-for-veteran-farmers-ranchers-15935
END:VEVENT

END:VCALENDAR
