BEGIN:VCALENDAR
VERSION:2.0
PRODID:-//ChamberMaster//Event Calendar 2.0//EN
METHOD:PUBLISH
X-PUBLISHED-TTL:P3D
REFRESH-INTERVAL:P3D
CALSCALE:GREGORIAN
BEGIN:VEVENT
DTSTART:20240323T180000Z
DTEND:20240323T200000Z
X-MICROSOFT-CDO-ALLDAYEVENT:FALSE
SUMMARY:Boston Bruins Alumni Charity Hockey Game 2024
DESCRIPTION:Marsh McLennan Agency believes that it is our responsibility to help make a positive impact in our communities and to help those in need. Our Charitable Committee works with our regional offices and colleagues to help support social impact initiatives through volunteerism\, fundraising\, and charitable donations.\n\nFor the second year\, all proceeds from the event with go toward the following local charities\; Operation Delta Dog\, Team Impact\, and Life is Good Playmakers.\n\nWatch history come alive\, as our MMA team takes on Bruins legends for the second time! We hope to see you there to have some fun while raising money for these three very amazing local organizations.\n\nWatch last years game here \n\n\n\nSupport a player!
X-ALT-DESC;FMTTYPE=text/html:<p>Marsh McLennan Agency believes that it is our responsibility to help make a positive impact in our communities and to help those in need. Our Charitable Committee works with our regional offices and colleagues to help support social impact initiatives through volunteerism\, fundraising\, and charitable donations.</p>\n\n<p>For the second year\, all proceeds from the event with go toward the following local charities\;&nbsp\;<a href="https://urldefense.com/v3/__https:/app.donorview.com/Donation/DonationInfo?prm=zsUVmzsDSGQy-Mo93Saq-IWrZmX0nh8mf5A11Osr7M3cEwHHoTRTLJ40IbhfbSjs5VaBDzAfpfXSaaI70a70I3WTQ6EdVbb5XI6UrQ2zJVSiDy3VdRZmrh03UyBbOM7eCJANDp8Rw1FqGn1G22H1w_S64PxMBMIPwrx-OnJXJpdKG-RhJkE0b6L5TNBF75rZvEgV6lmeu3t6BrXMKOmGbuGsdo-ilo-XRE3MLe3Yjd3fHg4IM1olrbwYf3gq8JMB0__\;!!OfU0AjxONc4!MPIYYqBsLyVP-QT9San_VOtES-wsOLicpivSAd3EE9NpPTfKgHgFgKAvaD7dgMAZ-yK_OhhTEDFv4JOlcOrJSk3-6vTV6l_4Bck$" rel="nofollow noopener noreferrer" style="background-color: transparent\; text-decoration-line: none\; color: rgb(54\, 89\, 227)\; cursor: pointer\; box-sizing: border-box\; padding-top: 0px\;" target="_blank">Operation Delta Dog</a>\,&nbsp\;<a href="https://urldefense.com/v3/__https:/p2p.onecause.com/timomentsmatter__\;!!OfU0AjxONc4!MPIYYqBsLyVP-QT9San_VOtES-wsOLicpivSAd3EE9NpPTfKgHgFgKAvaD7dgMAZ-yK_OhhTEDFv4JOlcOrJSk3-6vTVKxTuG3w$" rel="nofollow noopener noreferrer" style="background-color: transparent\; text-decoration-line: none\; color: rgb(54\, 89\, 227)\; cursor: pointer\; box-sizing: border-box\;" target="_blank">Team Impact</a>\, and&nbsp\;<a href="https://urldefense.com/v3/__https:/secure.givelively.org/donate/the-life-is-good-playmakers/friends-of-mma-new-england__\;!!O7V3aRRsHkZJLA!GUrnpUVZL72YyMhLsjsdOo3GIk_ptBGRlYxU4xkEeo5Pe1eg5XPDUHK-4qHHq4vXYFEQohNfgbZawZZnv0YO8g-yBg7YDw$" rel="nofollow noopener noreferrer" style="background-color: transparent\; text-decoration-line: none\; color: rgb(54\, 89\, 227)\; cursor: pointer\; box-sizing: border-box\;" target="_blank">Life is Good Playmakers</a>.</p>\n\n<p>Watch history come alive\, as our MMA team takes on Bruins legends for the second time! We hope to see you there to have some fun while raising money for these three very amazing local organizations.</p>\n\n<p><a href="https://www.bostonbruinsalumni.com/-marsh-mclennan.html">Watch last years game here&nbsp\;</a><br />\n<br />\n<a href="https://runsignup.com/Race/Donate/MA/Brighton/MMACARES">Support a player!&nbsp\;</a></p>\n
LOCATION:Warrior Ice Arena 90 Guest Street Boston\, MA 02135
UID:e.2083.17280
SEQUENCE:3
DTSTAMP:20260420T084348Z
URL:https://business.cmschamber.org/events/details/boston-bruins-alumni-charity-hockey-game-2024-17280
END:VEVENT

END:VCALENDAR
