BEGIN:VCALENDAR
VERSION:2.0
PRODID:-//ChamberMaster//Event Calendar 2.0//EN
METHOD:PUBLISH
X-PUBLISHED-TTL:P3D
REFRESH-INTERVAL:P3D
CALSCALE:GREGORIAN
BEGIN:VEVENT
DTSTART:20211016T150000Z
DTEND:20211017T200000Z
X-MICROSOFT-CDO-ALLDAYEVENT:FALSE
SUMMARY:Boston Franchise Show - Free Tickets
DESCRIPTION:You are invited to The Boston Franchise Show at Royal Plaza Trade Center from October 16   17\, 2021! CLICK HERE FOR FREE TICKETS: https://thebizex.com/blog/boston-franchise-show-oct2021 Buying a franchise or proven business opportunity eliminates all the hard work of opening a business independently and will help avoid much of the risk of starting a new business. Take control of your future\, increase your income\, and find your path to a better lifestyle. Get the information you need to find the right business for you! - Full-time and Part-time business opportunities from every industry\, at every investment level - Seminars: Legal Advice\, How to Choose the Business For You\, Financing Options and much more - Proven money making businesses looking to meet new potential owners - Get the information you need and ask questions from top-tier franchisors - Save Hundreds of Hours of Research Time CLICK HERE FOR FREE TICKETS: https://thebizex.com/blog/boston-franchise-show-oct2021 (Otherwise\,10$ at the door) Royal Plaza Trade Center (*Safety Precautions are in Place*) October 16: 11AM   5PM October 17: 11AM   4PM
X-ALT-DESC;FMTTYPE=text/html:You are invited to The Boston Franchise Show at Royal Plaza Trade Center from October 16 &ndash\; 17\, 2021! CLICK HERE FOR FREE TICKETS: https://thebizex.com/blog/boston-franchise-show-oct2021 Buying a franchise or proven business opportunity eliminates all the hard work of opening a business independently and will help avoid much of the risk of starting a new business. Take control of your future\, increase your income\, and find your path to a better lifestyle. Get the information you need to find the right business for you! - Full-time and Part-time business opportunities from every industry\, at every investment level - Seminars: Legal Advice\, How to Choose the Business For You\, Financing Options and much more - Proven money making businesses looking to meet new potential owners - Get the information you need and ask questions from top-tier franchisors - Save Hundreds of Hours of Research Time CLICK HERE FOR FREE TICKETS: https://thebizex.com/blog/boston-franchise-show-oct2021 (Otherwise\,10$ at the door) Royal Plaza Trade Center (*Safety Precautions are in Place*) October 16: 11AM &ndash\; 5PM October 17: 11AM &ndash\; 4PM
LOCATION:Royal Plaza Trade Center 181 Boston Post Road West* Marlborough\, MA 01752
UID:e.2083.13161
SEQUENCE:3
DTSTAMP:20260422T090458Z
URL:https://business.cmschamber.org/events/details/boston-franchise-show-free-tickets-13161
END:VEVENT

END:VCALENDAR
