BEGIN:VCALENDAR
VERSION:2.0
PRODID:-//ChamberMaster//Event Calendar 2.0//EN
METHOD:PUBLISH
X-PUBLISHED-TTL:P3D
REFRESH-INTERVAL:P3D
CALSCALE:GREGORIAN
BEGIN:VEVENT
DTSTART:20210912T170000Z
DTEND:20210912T203000Z
X-MICROSOFT-CDO-ALLDAYEVENT:FALSE
SUMMARY:Boston spin4 Crohn's and Colitis Foundation
DESCRIPTION:The Crohn's & Colitis Foundation's spin4 crohn's & colitis cures event is an exciting outdoor cycle relay event. We're hosting an epic #partyonabike with Turnstyle Cycle instructors on Sunday September 12 at Hood Park in Charlestown\, MA. It is estimated that as many as 3.1 million Americans are living with Crohn's disease or ulcerative colitis   YOU can use your #power2cure by supporting our event. Here's how spin4 crohn's & colitis cures works:  Create/join a team or come solo  Raise the required fundraising commitment (starting at $250)  Join the party on event day and get your sweat on! Secure your bike today: https://bit.ly/spin4boston. Contact Catherine Pavlick at cpavlick@crohnscolitisfoundation.org or (646) 477-3581 for additional information.
X-ALT-DESC;FMTTYPE=text/html:The Crohn&#39\;s &amp\; Colitis Foundation&#39\;s spin4 crohn&#39\;s &amp\; colitis cures event is an exciting outdoor cycle relay event. We&#39\;re hosting an epic #partyonabike with Turnstyle Cycle instructors on Sunday September 12 at Hood Park in Charlestown\, MA. It is estimated that as many as 3.1 million Americans are living with Crohn&rsquo\;s disease or ulcerative colitis &ndash\; YOU can use your #power2cure by supporting our event. Here&#39\;s how spin4 crohn&rsquo\;s &amp\; colitis cures works: &bull\;Create/join a team or come solo &bull\;Raise the required fundraising commitment (starting at $250) &bull\;Join the party on event day and get your sweat on! Secure your bike today: https://bit.ly/spin4boston. Contact Catherine Pavlick at cpavlick@crohnscolitisfoundation.org or (646) 477-3581 for additional information.
LOCATION:https://bit.ly/spin4boston
UID:e.2083.12997
SEQUENCE:3
DTSTAMP:20260422T092446Z
URL:https://business.cmschamber.org/events/details/boston-spin4-crohn-s-and-colitis-foundation-12997
END:VEVENT

END:VCALENDAR
