BEGIN:VCALENDAR
VERSION:2.0
PRODID:-//ChamberMaster//Event Calendar 2.0//EN
METHOD:PUBLISH
X-PUBLISHED-TTL:P3D
REFRESH-INTERVAL:P3D
CALSCALE:GREGORIAN
BEGIN:VEVENT
DTSTART:20201204T180000Z
DTEND:20201204T203000Z
X-MICROSOFT-CDO-ALLDAYEVENT:FALSE
SUMMARY:Botanical Printed Holiday
DESCRIPTION:Botanical Printed Holiday This program will be held indoors in one of our well-ventilated classrooms. Group size will not exceed current state restrictions. Friday\, December 4\, 2020 1:00-3:30 PM Max Participants: 10 Instructor: Suzanne Hauerstein Get in the holiday spirit\, naturally! Using pine\, fern\, berries and other natural items students will use inks to print holiday cards\, gift tags\, place cards\, wrapping paper and gift bags to use for holiday gift giving. Techniques learned can be continued at home. All materials will be provided. Suzanne Hauerstein is a professional teaching artist and the Coordinator of Volunteer & Intern Services at Tower Hill. She has over 25 years of experience designing and facilitating art-based programs for informal learning environments. Suzanne is committed to creating programs that are accessible\, positive\, and enjoyable learning experiences for students of all ages and abilities. Single class scheduled on 12/4/2020 at 1:00PM
X-ALT-DESC;FMTTYPE=text/html:Botanical Printed Holiday This program will be held indoors in one of our well-ventilated classrooms. Group size will not exceed current state restrictions. Friday\, December 4\, 2020 1:00-3:30 PM Max Participants: 10 Instructor: Suzanne Hauerstein Get in the holiday spirit\, naturally! Using pine\, fern\, berries and other natural items students will use inks to print holiday cards\, gift tags\, place cards\, wrapping paper and gift bags to use for holiday gift giving. Techniques learned can be continued at home. All materials will be provided. Suzanne Hauerstein is a professional teaching artist and the Coordinator of Volunteer &amp\; Intern Services at Tower Hill. She has over 25 years of experience designing and facilitating art-based programs for informal learning environments. Suzanne is committed to creating programs that are accessible\, positive\, and enjoyable learning experiences for students of all ages and abilities. Single class scheduled on 12/4/2020 at 1:00PM
LOCATION:Tower Hill Botanic Garden
UID:e.2083.12388
SEQUENCE:3
DTSTAMP:20260422T224040Z
URL:https://business.cmschamber.org/events/details/botanical-printed-holiday-12388
END:VEVENT

END:VCALENDAR
