BEGIN:VCALENDAR
VERSION:2.0
PRODID:-//ChamberMaster//Event Calendar 2.0//EN
METHOD:PUBLISH
X-PUBLISHED-TTL:P3D
REFRESH-INTERVAL:P3D
CALSCALE:GREGORIAN
BEGIN:VEVENT
DTSTART:20231109T220000Z
DTEND:20231110T010000Z
X-MICROSOFT-CDO-ALLDAYEVENT:FALSE
SUMMARY:Bowditch Annual Economic Development Summit: Developing for Climate Resiliency
DESCRIPTION:Climate change is a prominent and urgent challenge today. In a 10-year study\, it was found that commercial and residential buildings continue to be the single largest contributor to Worcester's greenhouse gas emission.\n\nThe City of Worcester has proposed adopting a specialized energy code (stretch code)\, a more rigorous set of regulations for use of fossil fuels in buildings\, promoting climate resiliency and aiming for net zero emissions.\n\nOn November 9\, 2023\, experts at our summit will share some of the development projects leading the way and will also discuss:\n\n\n	How design and technological innovations can improve building performance and future-proof assets\n	Which types of building elements are best for the environment while also not jeopardizing budget restrictions\n	Benefits and challenges to implementing climate resilient development\n\n\nSPEAKERS\n\n\n	Eliza Datta\, President\, E3 Development\n	Adam Jennings\, Director of Energy & Sustainability\, AHA Consulting Engineers\n	John Odell\, Chief of Sustainability & Resilience\, City of Worcester\n\n\nMODERATOR\n\n\n	\n	Samantha McDonald\, Partner\, Bowditch
X-ALT-DESC;FMTTYPE=text/html:<p>Climate change is a prominent and urgent challenge today. In a&nbsp\;<a class="ProsemirrorEditor-link" href="https://www.worcesterma.gov/uploads/d7/c5/d7c51bf32b90e3896edc0b0227da9c8c/stretch-code-presentation.pdf" rel="noopener" style="box-sizing: border-box\; background-color: transparent\; color: rgb(0\, 130\, 145)\; text-decoration-line: none\; transition: all 0.2s ease 0s\;" target="_blank">10-year study</a>\, it was found that commercial and residential buildings continue to be the single largest contributor to Worcester&rsquo\;s greenhouse gas emission.</p>\n\n<p>The City of Worcester has proposed adopting a specialized energy code (stretch code)\, a more rigorous set of regulations for use of fossil fuels in buildings\, promoting climate resiliency and aiming for net zero emissions.</p>\n\n<p>On November 9\, 2023\, experts at our summit will share some of the development projects leading the way and will also discuss:</p>\n\n<ul>\n	<li>How design and technological innovations can improve building performance and future-proof assets</li>\n	<li>Which types of building elements are best for the environment while also not jeopardizing budget restrictions</li>\n	<li>Benefits and challenges to implementing climate resilient development</li>\n</ul>\n\n<h2>SPEAKERS</h2>\n\n<ul>\n	<li>Eliza Datta\, President\, E3 Development</li>\n	<li>Adam Jennings\, Director of Energy &amp\; Sustainability\, AHA Consulting Engineers</li>\n	<li>John Odell\, Chief of Sustainability &amp\; Resilience\, City of Worcester</li>\n</ul>\n\n<h2>MODERATOR</h2>\n\n<ul>\n	<li>\n	<p><a href="https://www.bowditch.com/people/samantha-p-mcdonald/" style="box-sizing: border-box\; background-color: transparent\; color: rgb(0\, 130\, 145)\; text-decoration-line: none\; transition: all 0.2s ease 0s\;">Samantha McDonald</a>\, Partner\, Bowditch</p>\n	</li>\n</ul>\n
LOCATION:AC Hotel\, 125 Front Street\, Worcester
UID:e.2083.16685
SEQUENCE:3
DTSTAMP:20260420T153818Z
URL:https://business.cmschamber.org/events/details/bowditch-annual-economic-development-summit-developing-for-climate-resiliency-16685
END:VEVENT

END:VCALENDAR
