BEGIN:VCALENDAR
VERSION:2.0
PRODID:-//ChamberMaster//Event Calendar 2.0//EN
METHOD:PUBLISH
X-PUBLISHED-TTL:P3D
REFRESH-INTERVAL:P3D
CALSCALE:GREGORIAN
BEGIN:VEVENT
DTSTART:20221110T220000Z
DTEND:20221111T010000Z
X-MICROSOFT-CDO-ALLDAYEVENT:FALSE
SUMMARY:Bowditch Economic Development Summit: Multifamily Development and Inclusionary Zoning
DESCRIPTION:A number of high-density multifamily development projects have been completed in Worcester over the past several years\, with many more in the pipeline. Investment in Worcester is strong.  \n\n \n\nAt the same time\, while the construction of more housing units helps to address the shortage in Worcester's overall housing supply\, we must also seek to strategically improve housing affordability. Worcester is considering the adoption of an inclusionary zoning ordinance that aims to meet affordable housing needs\, while encouraging the development of much-needed multifamily housing.  \n\n \n\nJoin us to learn from experts as they discuss: \n\n	How inclusionary zoning advances the public good  \n	Multifamily investment considerations\, risks\, and dynamics  \n	Development location drivers  \n	How developers are dealing with rising costs\, inflation\, and a potential economic downturn\n\nSpeakers:\n\n\n	Judi Barrett - Planning Director\, Owner & Operating Manager\, Barrett Planning Group LLC \n	Leah Bradley - Chief Executive Officer\, Central Massachusetts Housing Alliance \n	Peter Dunn - Chief Development Officer\, City of Worcester \n	Aaron Horne - Project Manager\, Trinity Financial \n	Joshua Lee Smith - Partner\, Bowditch (Moderator)\n\n?
X-ALT-DESC;FMTTYPE=text/html:<span style="font-size:12px"><span style="color:black">A number of high-density multifamily development projects have been completed in Worcester over the past several years\, with many more in the pipeline. Investment in Worcester is strong.&nbsp\;&nbsp\;</span><br />\n&nbsp\;<br />\n<span style="color:black">At the same time\, while the construction of more housing units helps to address the shortage in Worcester&rsquo\;s overall housing supply\, we must also seek to strategically improve housing affordability. Worcester is considering the adoption of an inclusionary zoning ordinance that aims to meet affordable housing needs\, while encouraging the development of much-needed multifamily housing.&nbsp\;&nbsp\;</span><br />\n&nbsp\;<br />\n<span style="color:black">Join us to learn from experts as they discuss:&nbsp\;</span></span>\n<ul>\n	<li><span style="font-size:12px"><span style="color:black">How inclusionary zoning advances the public good&nbsp\;&nbsp\;</span></span></li>\n	<li><span style="font-size:12px"><span style="color:black">Multifamily investment considerations\, risks\, and dynamics&nbsp\;&nbsp\;</span></span></li>\n	<li><span style="font-size:12px"><span style="color:black">Development location drivers&nbsp\;&nbsp\;</span></span></li>\n	<li><span style="font-size:12px"><span style="color:black">How developers are dealing with rising costs\, inflation\, and a potential economic downturn</span></span></li>\n</ul>\n<span style="color:black"><span style="font-size:10.5pt"><span style="font-size:14px"><strong>Speakers:</strong></span></span></span>\n\n<ul>\n	<li><span style="color:black"><span style="font-size:10.5pt"><span style="font-size:12px">Judi Barrett -&nbsp\;Planning Director\, Owner &amp\; Operating Manager\, Barrett Planning Group LLC&nbsp\;</span></span></span></li>\n	<li><span style="color:black"><span style="font-size:10.5pt"><span style="font-size:12px"><span style="color:rgb(51\, 51\, 51)">Leah Bradley -&nbsp\;Chief Executive Officer\, Central Massachusetts Housing Alliance&nbsp\;</span></span></span></span></li>\n	<li><span style="color:black"><span style="font-size:10.5pt"><span style="color:rgb(51\, 51\, 51)\; font-size:13px">Peter Dunn -&nbsp\;Chief Development Officer\,&nbsp\;City of Worcester&nbsp\;</span></span></span></li>\n	<li><span style="color:black"><span style="font-size:10.5pt"><span style="color:rgb(51\, 51\, 51)\; font-size:13px">Aaron Horne -&nbsp\;Project Manager\,&nbsp\;Trinity Financial&nbsp\;</span></span></span></li>\n	<li><span style="color:black"><span style="font-size:10.5pt"><span style="color:rgb(51\, 51\, 51)\; font-size:13px">Joshua Lee Smith -&nbsp\;Partner\, Bowditch&nbsp\;(Moderator)</span></span></span></li>\n</ul>\n<span style="color:black"><span style="font-size:10.5pt"><span style="color:rgb(51\, 51\, 51)\; font-size:13px"><span style="color:rgb(51\, 51\, 51)\; font-size:13px">?</span></span></span></span>
LOCATION:AC Hotel\, 125 Front St\, Worcester\, MA
UID:e.2083.14745
SEQUENCE:3
DTSTAMP:20260421T125728Z
URL:https://business.cmschamber.org/events/details/bowditch-economic-development-summit-multifamily-development-and-inclusionary-zoning-14745
END:VEVENT

END:VCALENDAR
