BEGIN:VCALENDAR
VERSION:2.0
PRODID:-//ChamberMaster//Event Calendar 2.0//EN
METHOD:PUBLISH
X-PUBLISHED-TTL:P3D
REFRESH-INTERVAL:P3D
CALSCALE:GREGORIAN
BEGIN:VEVENT
DTSTART:20230126T170000Z
DTEND:20230126T180000Z
X-MICROSOFT-CDO-ALLDAYEVENT:FALSE
SUMMARY:Brand-Building For Small Businesses
DESCRIPTION:Your brand is more than just a logo it is the perception people have of your business. Your brand is what you do\, how you represent your businesses visually\, and the words you use. Strong small business brands attract and retain customers more easily. But what does it take to build a memorable\, authentic brand?\n\n\n\nIn this workshop\, you will gain a better understanding of how to develop effective visual branding and brand messaging for your business.\n\n\n\nJoin us as we cover\n\n\n	the basic elements of visual branding and brand messaging a small business needs\n	tips for differentiating between strong and weak branding\n	powerful ways to put your visual branding and messaging into action\n\n\nGet ready to learn the basics\, and bring your questions!
X-ALT-DESC;FMTTYPE=text/html:<p>Your brand is more than just a logo&mdash\;it is the perception people have of your business. Your brand is what you do\, how you represent your businesses visually\, and the words you use. Strong small business brands attract and retain customers more easily. But what does it take to build a memorable\, authentic brand?<br />\n<br />\nIn this workshop\, you will gain a better understanding of how to develop effective visual branding and brand messaging for your business.<br />\n<br />\nJoin us as we cover</p>\n\n<ul>\n	<li>the basic elements of visual branding and brand messaging a small business needs</li>\n	<li>tips for differentiating between strong and weak branding</li>\n	<li>powerful ways to put your visual branding and messaging into action</li>\n</ul>\n\n<p>Get ready to learn the basics\, and bring your questions!</p>\n
LOCATION:Zoom
UID:e.2083.14990
SEQUENCE:3
DTSTAMP:20260421T093343Z
URL:https://business.cmschamber.org/events/details/brand-building-for-small-businesses-14990
END:VEVENT

END:VCALENDAR
