BEGIN:VCALENDAR
VERSION:2.0
PRODID:-//ChamberMaster//Event Calendar 2.0//EN
METHOD:PUBLISH
X-PUBLISHED-TTL:P3D
REFRESH-INTERVAL:P3D
CALSCALE:GREGORIAN
BEGIN:VEVENT
DTSTART:20220602T110000Z
DTEND:20220602T130000Z
X-MICROSOFT-CDO-ALLDAYEVENT:FALSE
SUMMARY:Breakfast Club at Assumption University
DESCRIPTION:Please join us for this event which features a speaking program\, salutes to area businesses and a networking breakfast.\n\n\n\nKeynote Speaker: Carolyn Jackson\, Chief Executive Officer\, Saint Vincent Hospital\n\nChief Greeter: Eric Batista\, Acting City Manager\n\n\n\nSalutes\n\n50 Year Anniversary\, Family Health Center of Worcester\, Inc. \n\nRenovation\, Worcester Public Library\n\nNew President & CEO\, Amie\, Shei\, The Health Foundation of Central MA\n\n150 Year (plus 2) Anniversary\, UniBank\n\nNew Executive Director\, Julie Bowditch\, The CASA Project\n\n25 Year Anniversary\, Christopher Heights
X-ALT-DESC;FMTTYPE=text/html:<span style="color: rgb(51\, 51\, 51)\; font-family: sans-serif\, Arial\, Verdana\, &quot\;Trebuchet MS&quot\;\; font-size: 13px\; background-color: rgb(255\, 255\, 255)\;">Please join us for this event which features a speaking program\, salutes to area businesses and a networking breakfast.<br />\n<br />\n<u><strong>Keynote Speaker</strong></u>: Carolyn Jackson\, Chief Executive Officer\, Saint Vincent Hospital<br />\n<u><strong>Chief Greeter: </strong></u>Eric Batista\, Acting City Manager<br />\n<br />\n<u><strong>Salutes</strong></u><br />\n<em>50 Year Anniversary\,</em> Family Health Center of Worcester\, Inc.&nbsp\;<br />\n<em>Renovation\,</em> Worcester Public Library<br />\n<em>New President &amp\; CEO\,</em> Amie\, Shei\, The Health Foundation of Central MA<br />\n<em>150 Year (plus 2) Anniversary</em>\, UniBank<br />\n<em>New Executive Director</em>\, Julie Bowditch\, The CASA Project<br />\n<em>25 Year Anniversary\,</em> Christopher Heights&nbsp\;</span>
LOCATION:Assumption University 500 Salisbury Street Worcester\, MA 01609 Tsotsis Family Academic Center
UID:e.2083.13656
SEQUENCE:3
DTSTAMP:20260421T202222Z
URL:https://business.cmschamber.org/events/details/breakfast-club-at-assumption-university-13656
END:VEVENT

END:VCALENDAR
