BEGIN:VCALENDAR
VERSION:2.0
PRODID:-//ChamberMaster//Event Calendar 2.0//EN
METHOD:PUBLISH
X-PUBLISHED-TTL:P3D
REFRESH-INTERVAL:P3D
CALSCALE:GREGORIAN
BEGIN:VEVENT
DTSTART:20230712T180000Z
DTEND:20230712T190000Z
X-MICROSOFT-CDO-ALLDAYEVENT:FALSE
SUMMARY:Breaking Down the Supreme Court’s Block on Race-Based Affirmative Action in College Admissions
DESCRIPTION:On June 29\, the U.S. Supreme Court ruled that use of race in college and university admissions violates the Equal Protection Clause of the 14th Amendment. What does this mean for your institution going forward?\n\nJoin Bowditch's Brigid Harrington and Aimee Bierman to break down this decision\, including topics such as:\n\n\n	An explanation of the court's decision\n	Race-based considerations that may still be permitted\n	Impacts on other aspects of the admissions process
X-ALT-DESC;FMTTYPE=text/html:<p>On June 29\, the U.S. Supreme Court ruled that use of race in college and university admissions violates the Equal Protection Clause of the 14<span style="font-size:15.75px">th</span>&nbsp\;Amendment. What does this mean for your institution going forward?</p>\n\n<p>Join Bowditch&#39\;s Brigid Harrington and Aimee Bierman to break down this decision\, including topics such as:</p>\n\n<ul>\n	<li>An explanation of the court&rsquo\;s decision</li>\n	<li>Race-based considerations that may still be permitted</li>\n	<li>Impacts on other aspects of the admissions process</li>\n</ul>\n
LOCATION:Webinar
UID:e.2083.16031
SEQUENCE:3
DTSTAMP:20260421T005401Z
URL:https://business.cmschamber.org/events/details/breaking-down-the-supreme-court-s-block-on-race-based-affirmative-action-in-college-admissions-07-12-2023-16031
END:VEVENT

END:VCALENDAR
