BEGIN:VCALENDAR
VERSION:2.0
PRODID:-//ChamberMaster//Event Calendar 2.0//EN
METHOD:PUBLISH
X-PUBLISHED-TTL:P3D
REFRESH-INTERVAL:P3D
CALSCALE:GREGORIAN
BEGIN:VEVENT
DTSTART:20220423T130000Z
DTEND:20220423T170000Z
X-MICROSOFT-CDO-ALLDAYEVENT:FALSE
SUMMARY:Breathwork by Julie
DESCRIPTION:Take a deep breath and discover breathwork\, a body-mind therapy that utilizes conscious\, connected breathing. By breathing an open\, healthy\, connected breath our bodies naturally begin to release physical tension. As our bodies and our breath become more physically relaxed we find that this type of breathing has the capacity to release deep emotional and mental patterns as well.\n\nBreathwork is a holistic evidence-based energy therapy that helps to restore natural diaphragmatic breath with deeper slower breathing. This naturally activates the parasympathetic nervous system producing a calm soothing self-induced state.\n\nBreathwork therapy includes mindfulness and breath techniques. Suppressed energy held in the mind and body created through life challenges\, trauma or dysfunctional self-beliefs from early childhood are released. This creates a healthier body (70% of toxins are released through the breath)\; less muscular skeletal body tension\; and stress reduction (lower cortisol levels).\n\nMany created life stories from the first two years of life or from trauma (I am not good enough\; I am unlovable\; I am powerless) are unconscious and stored in cell memory (not stored in the cortex where talk therapy reaches memories created after age three). Breathwork compliments talk therapy and empowers the self to be its own guide and restore bodily homeostasis.
X-ALT-DESC;FMTTYPE=text/html:Take a deep breath and discover breathwork\, a body-mind therapy that utilizes conscious\, connected breathing. By breathing an open\, healthy\, connected breath our bodies naturally begin to release physical tension. As our bodies and our breath become more physically relaxed we find that this type of breathing has the capacity to release deep emotional and mental patterns as well.\n<div>\n<p style="text-align:justify">Breathwork is a holistic evidence-based energy therapy that helps to restore natural diaphragmatic breath with deeper slower breathing.&nbsp\;This naturally activates the parasympathetic nervous system producing a calm soothing self-induced state.</p>\n\n<p style="text-align:justify">Breathwork therapy includes mindfulness and breath techniques. Suppressed energy held in the mind and body created through life challenges\, trauma or dysfunctional self-beliefs from early childhood are released. This creates a healthier body (70% of toxins are released through the breath)\; less muscular skeletal body tension\; and stress reduction (lower cortisol levels).</p>\n\n<p style="text-align:justify">Many created life stories from the first two years of life or from trauma (I am not good enough\; I am unlovable\; I am powerless) are unconscious and stored in cell memory (not stored in the cortex where talk therapy reaches memories created after age three). Breathwork compliments talk therapy and empowers the self to be its own guide and restore bodily homeostasis.</p>\n</div>\n
LOCATION:The HeartWell Institute 1015 Pleasant St. Worcester\, MA 01602 On-site Parking WRTA bus stop in front
UID:e.2083.13894
SEQUENCE:3
DTSTAMP:20260421T231705Z
URL:https://business.cmschamber.org/events/details/breathwork-by-julie-04-23-2022-13894
END:VEVENT

END:VCALENDAR
