BEGIN:VCALENDAR
VERSION:2.0
PRODID:-//ChamberMaster//Event Calendar 2.0//EN
METHOD:PUBLISH
X-PUBLISHED-TTL:P3D
REFRESH-INTERVAL:P3D
CALSCALE:GREGORIAN
BEGIN:VEVENT
DTSTART:20230607T220000Z
DTEND:20230608T010000Z
X-MICROSOFT-CDO-ALLDAYEVENT:FALSE
SUMMARY:Brewing the American Dream: Rooftop Pitch Room Competition
DESCRIPTION:Join the Samuel Adams Brewing the American Dream program on Wednesday\, June 7th at 6:00pm for an exciting in-person event that supports small businesses.\n\nIn 2023\, BTAD is celebrating 15 years of impact for food and beverage entrepreneurs by offering a first-ever Business Bootcamp designed to help New England entrepreneurs become better equipped to get their products in front of new customers.\n\nThe program will culminate in the Rooftop Pitch Room Competition\, where a select group of Bootcamp participants will compete for the chance to receive a business grant. Food and beer will be available for free! Don't miss your chance to watch this exciting event unfold and support small businesses.\n\nReserve your seat for free at this competition today! Join us at the Samuel Adams Boston Taproom and celebrate 15 years of Samuel Adams Brewing the American Dream!
X-ALT-DESC;FMTTYPE=text/html:<p>Join the Samuel Adams Brewing the American Dream program on Wednesday\, June 7th at 6:00pm for an exciting in-person event that supports small businesses.</p>\n\n<p>In 2023\, BTAD is celebrating 15 years of impact for food and beverage entrepreneurs by offering a first-ever Business Bootcamp designed to help New England entrepreneurs become better equipped to get their products in front of new customers.</p>\n\n<p>The program will culminate in the Rooftop Pitch Room Competition\, where a select group of Bootcamp participants will compete for the chance to receive a business grant. Food and beer will be available for free! Don&rsquo\;t miss your chance to watch this exciting event unfold and support small businesses.</p>\n\n<p>Reserve your seat for free at this competition today! Join us at the Samuel Adams Boston Taproom and celebrate 15 years of Samuel Adams Brewing the American Dream!</p>\n
LOCATION:Samuel Adams Boston Downtown Taproom 60 State Street Boston\, MA 02109
UID:e.2083.15958
SEQUENCE:3
DTSTAMP:20260421T024700Z
URL:https://business.cmschamber.org/events/details/brewing-the-american-dream-rooftop-pitch-room-competition-15958
END:VEVENT

END:VCALENDAR
