BEGIN:VCALENDAR
VERSION:2.0
PRODID:-//ChamberMaster//Event Calendar 2.0//EN
METHOD:PUBLISH
X-PUBLISHED-TTL:P3D
REFRESH-INTERVAL:P3D
CALSCALE:GREGORIAN
BEGIN:VEVENT
DTSTART:20200916T160000Z
DTEND:20200916T220000Z
X-MICROSOFT-CDO-ALLDAYEVENT:FALSE
SUMMARY:Bud's Goods & Provisions Career Fair
DESCRIPTION:
X-ALT-DESC;FMTTYPE=text/html:
LOCATION:
UID:e.2083.12222
SEQUENCE:3
DTSTAMP:20260423T053433Z
URL:https://business.cmschamber.org/events/details/bud-s-goods-provisions-career-fair-09-16-2020-12222
END:VEVENT

END:VCALENDAR
