BEGIN:VCALENDAR
VERSION:2.0
PRODID:-//ChamberMaster//Event Calendar 2.0//EN
METHOD:PUBLISH
X-PUBLISHED-TTL:P3D
REFRESH-INTERVAL:P3D
CALSCALE:GREGORIAN
BEGIN:VEVENT
DTSTART:20210914T160000Z
DTEND:20210914T173000Z
X-MICROSOFT-CDO-ALLDAYEVENT:FALSE
SUMMARY:Build Your B.A.I.L. Team
DESCRIPTION:This will be a ZOOM Meeting. Zoom Meeting Information on how to join will be sent once registered.\n\nPANELISTS:\n\n\n	BANKING: Shayla Begley\, Eastern Bank\; Callie Niezgoda\, Common Capital\; and Amy Shapiro\, Franklin County CDC\n	ACCOUNTING: Katishia Gallishaw\, KG Virtual CFO\n	INSURANCE: Pete Normand\, Webber & Grinnell Insurance\n	LEGAL: Dennis LaRochelle\, Cain Hibbard & Myers PC\n\n\nBrought to you by the Western Mass Means Business collaboration.
X-ALT-DESC;FMTTYPE=text/html:<p>This will be a ZOOM Meeting. Zoom Meeting Information on how to join will be sent once registered.</p>\n\n<p>PANELISTS:</p>\n\n<ul>\n	<li>BANKING: Shayla Begley\, Eastern Bank\; Callie Niezgoda\, Common Capital\; and Amy Shapiro\, Franklin County CDC</li>\n	<li>ACCOUNTING: Katishia Gallishaw\, KG Virtual CFO</li>\n	<li>INSURANCE: Pete Normand\, Webber &amp\; Grinnell Insurance</li>\n	<li>LEGAL: Dennis LaRochelle\, Cain Hibbard &amp\; Myers PC</li>\n</ul>\n\n<p>Brought to you by the&nbsp\;<a href="https://www.wmassmeansbusiness.com/" rel="nofollow noopener noreferrer" style="color: rgb(45\, 119\, 179)\; text-decoration-line: none\;" target="_blank">Western Mass Means Business collaboration.</a></p>\n
LOCATION:Zoom Webinar
UID:e.2083.13108
SEQUENCE:3
DTSTAMP:20260422T090740Z
URL:https://business.cmschamber.org/events/details/build-your-b-a-i-l-team-13108
END:VEVENT

END:VCALENDAR
