BEGIN:VCALENDAR
VERSION:2.0
PRODID:-//ChamberMaster//Event Calendar 2.0//EN
METHOD:PUBLISH
X-PUBLISHED-TTL:P3D
REFRESH-INTERVAL:P3D
CALSCALE:GREGORIAN
BEGIN:VEVENT
DTSTART:20220501T170000Z
DTEND:20220501T210000Z
X-MICROSOFT-CDO-ALLDAYEVENT:FALSE
SUMMARY:Burncoat Bloom Festival-Sunday May 1st 1-5pm
DESCRIPTION:Come join us for a fun sustainable arts and wellness festival featuring local food vendors\, handmade goods\, farmers\, small businesses and music.\n\n \n\n$2 Admission per person to attend or a donation of 3 non-perishable items for Worcester Community Fridges. Ticket will be then entered into our raffle for a chance to win a variety of goodies!\n\n \n\nThis is an outdoor event. Parking will be available at Wawekus school across the street or there is also off-street parking on Burncoat Terrace or Wawekus st.\n\n \n\nRain date will be Sunday\, May 15th from 1-5pm.
X-ALT-DESC;FMTTYPE=text/html:<p>Come join us for a fun sustainable arts and wellness festival featuring local food vendors\, handmade goods\, farmers\, small businesses and music.</p>\n\n<p>&nbsp\;</p>\n\n<p>$2 Admission per person to attend or a donation of 3 non-perishable items for Worcester Community Fridges. Ticket will be then entered into our raffle for a chance to win a variety of goodies!</p>\n\n<p>&nbsp\;</p>\n\n<p>This is an outdoor event. Parking will be available at Wawekus school across the street or there is also off-street parking on Burncoat Terrace or Wawekus st.</p>\n\n<p>&nbsp\;</p>\n\n<p>Rain date will be Sunday\, May 15th from 1-5pm.</p>\n
LOCATION:78 Burncoat St Worcester MA 01605
UID:e.2083.13896
SEQUENCE:3
DTSTAMP:20260421T215516Z
URL:https://business.cmschamber.org/events/details/burncoat-bloom-festival-sunday-may-1st-1-5pm-13896
END:VEVENT

END:VCALENDAR
