BEGIN:VCALENDAR
VERSION:2.0
PRODID:-//ChamberMaster//Event Calendar 2.0//EN
METHOD:PUBLISH
X-PUBLISHED-TTL:P3D
REFRESH-INTERVAL:P3D
CALSCALE:GREGORIAN
BEGIN:VEVENT
DTSTART:20230525T200000Z
DTEND:20230525T220000Z
X-MICROSOFT-CDO-ALLDAYEVENT:FALSE
SUMMARY:Business After Hours Annual Awards Ceremony at Off The Rails
DESCRIPTION:Join us for our Business After Hours Annual Awards Ceremony at Off The Rails!\n\n\n\nFollowing the awards light apps will be provided with a cash bar available throughout the event.\n\n\n\nCheck in-3:30pm\n\nAward Ceremony-4:00pm\n\nNetworking- 5:00pm\n\n\n\nWe look forward to recognizing and awarding the following businesses in 2023:\n\nRichard B. Kennedy Business of the Year: Saint-Gobain Abrasives\, Inc.\n\nJoe Cohen Retailer of the Year: Worcester Wares\n\nFamily Owned Business of the Year: Garden Fresh\n\nSmall Business of the Year: GEM Marketing Solutions\n\nBIPOC Business of the Year: Your CBD Store\n\n\n\nNonprofit Organization of the Year: Easterseals Massachusetts\n\nEntrepreneur of the Year: Briana Azier\n\nAmbassador of the Year: Adriana Vaccaro\n\nAdvocate of the Year: Richard Burke\n\n\n\nGreen Business of the Year: Building Evolution Corporation\n\nSilver Hammer Awards:\n\nGreatest Hits\n\nSeaman Engineering Corporation \n\nMG2 517 Main Street \n\nClark University Michelson Theater\n\nNotre Dame Du Lac Assisted Living \n\nBusiness After Hours is an opportunity for you to network with other Chamber members and guests. Meet new contacts\, develop new leads\, and exchange ideas. Join us and dozens of area professionals for a fun\, informal networking event!
X-ALT-DESC;FMTTYPE=text/html:<p><span style="color: rgb(0\, 0\, 0)\;">Join us for our Business After Hours Annual Awards Ceremony at Off The Rails!<br />\n<br />\nFollowing the awards light apps will be provided with a cash bar available throughout the event.</span><br />\n<br />\nCheck in-3:30pm<br />\nAward Ceremony-4:00pm<br />\nNetworking- 5:00pm<br />\n<br />\n<span style="color: rgb(0\, 0\, 0)\;">We look forward to recognizing and awarding&nbsp\;the following businesses in 2023:</span></p>\n\n<p><b>Richard B. Kennedy Business of the Year: Saint-Gobain Abrasives\, Inc.</b></p>\n\n<p><b>Joe Cohen Retailer of the Year: Worcester Wares</b></p>\n\n<p><b>Family Owned Business of the Year: Garden Fresh</b></p>\n\n<p><b>Small Business of the Year: GEM Marketing Solutions</b></p>\n\n<p><b>BIPOC Business of the Year: Your CBD Store</b><br />\n<br />\n<b>Nonprofit Organization&nbsp\;of the Year: Easterseals Massachusetts</b></p>\n\n<p><b>Entrepreneur of the Year: Briana Azier</b></p>\n\n<p><b>Ambassador of the Year: Adriana Vaccaro</b></p>\n\n<p><b>Advocate of the Year: Richard Burke</b><br />\n<br />\n<b>Green Business of the Year: Building Evolution Corporation</b></p>\n\n<p><b>Silver Hammer Awards:</b><br />\nGreatest Hits<br />\nSeaman Engineering Corporation&nbsp\;<br />\nMG2 517 Main Street&nbsp\;<br />\nClark University Michelson Theater<br />\nNotre Dame Du Lac Assisted Living&nbsp\;</p>\n\n<p><span style="color: rgb(51\, 51\, 51)\; font-family: arial\; font-size: 12px\; background-color: rgb(255\, 255\, 255)\;">Business After Hours is an opportunity for you to network with other Chamber members and guests. Meet new contacts\, develop new leads\, and exchange ideas. Join us and dozens of area professionals for a fun\, informal networking event!&nbsp\;</span><br />\n&nbsp\;</p>\n
LOCATION:In person event location: Off The Rails Concert Venue 90 Commercial Street Worcester\, MA 01608
UID:e.2083.13975
SEQUENCE:3
DTSTAMP:20260421T024849Z
URL:https://business.cmschamber.org/events/details/business-after-hours-annual-awards-ceremony-at-off-the-rails-13975
END:VEVENT

END:VCALENDAR
