BEGIN:VCALENDAR
VERSION:2.0
PRODID:-//ChamberMaster//Event Calendar 2.0//EN
METHOD:PUBLISH
X-PUBLISHED-TTL:P3D
REFRESH-INTERVAL:P3D
CALSCALE:GREGORIAN
BEGIN:VEVENT
DTSTART:20230323T210000Z
DTEND:20230323T230000Z
X-MICROSOFT-CDO-ALLDAYEVENT:FALSE
SUMMARY:Business After Hours at 107 Tap
DESCRIPTION:Business After Hours is an opportunity for you to network with other Chamber members and guests. Meet new contacts\, develop new leads\, and exchange ideas. Join us and hundreds of area professionals for a fun\, informal networking event!
X-ALT-DESC;FMTTYPE=text/html:<span style="font-family: arial\; font-size: 14px\;">Business After Hours is an opportunity for you to network with other Chamber members and guests. Meet new contacts\, develop new leads\, and exchange ideas. Join us and hundreds of area professionals for a fun\, informal networking event!&nbsp\;</span>
LOCATION:107 Tap 107 Water St. Worcester\, MA 01604
UID:e.2083.14807
SEQUENCE:3
DTSTAMP:20260421T074958Z
URL:https://business.cmschamber.org/events/details/business-after-hours-at-107-tap-14807
END:VEVENT

END:VCALENDAR
