BEGIN:VCALENDAR
VERSION:2.0
PRODID:-//ChamberMaster//Event Calendar 2.0//EN
METHOD:PUBLISH
X-PUBLISHED-TTL:P3D
REFRESH-INTERVAL:P3D
CALSCALE:GREGORIAN
BEGIN:VEVENT
DTSTART:20200220T220000Z
DTEND:20200221T003000Z
X-MICROSOFT-CDO-ALLDAYEVENT:FALSE
SUMMARY:Business After Hours - February 2020 - O'Connor's Restaurant
DESCRIPTION:Business After Hours is an opportunity for you to network with other Chamber members and guests. Meet new contacts\, develop new leads\, and exchange ideas. Join us and hundreds of area professionals for a fun\, informal networking event!
X-ALT-DESC;FMTTYPE=text/html:<p><span style="font-size: 14px\;">Business After Hours is an opportunity for you to network with other Chamber members and guests. Meet new contacts\, develop new leads\, and exchange ideas. Join us and hundreds of area professionals for a fun\, informal networking event!&nbsp\;</span></p>\n
LOCATION:O'Connor's Restaurant 1160 West Boylston Street Worcester\, MA
UID:e.2083.10601
SEQUENCE:3
DTSTAMP:20260423T144905Z
URL:https://business.cmschamber.org/events/details/business-after-hours-february-2020-o-connor-s-restaurant-10601
END:VEVENT

END:VCALENDAR
