BEGIN:VCALENDAR
VERSION:2.0
PRODID:-//ChamberMaster//Event Calendar 2.0//EN
METHOD:PUBLISH
X-PUBLISHED-TTL:P3D
REFRESH-INTERVAL:P3D
CALSCALE:GREGORIAN
BEGIN:VEVENT
DTSTART:20210302T160000Z
DTEND:20210302T170000Z
X-MICROSOFT-CDO-ALLDAYEVENT:FALSE
SUMMARY:Business and Government Forum-ACT Against Covid
DESCRIPTION:Join us for an in depth and critical conversation regarding Types of COVID Testing in our continued efforts to combat the spread and the role business owners have.\n\n\n\nACT Against COVID\, the Alliance for Comprehensive Testing\, is a diverse alliance committed to educating the public about the value of\, and how to access\, COVID-19 antigen and antibody testing.\n\n\n\nAntigen and antibody tests play an essential role in reducing the spread of COVID-19. They are scalable complements to PCR testing\, produce actionable results\, and are a critical part of minimizing the health\n\nand economic impacts of the pandemic. Both tests enhance public health efficiency antigen tests can screen large numbers of people and produce results quickly\, while antibody tests eliminate redundancy\n\nin testing\, indicate COVID-19 prevalence in the population\, and inform healthcare decisions for individuals.\n\nThere are two kinds of tests being used to detect current infections of COVID-19 (also known as SARS-CoV-2): PCR (polymerase chain reaction) or molecular nucleic acid amplification tests (NAAT) are primarily used as diagnostic tests for symptomatic patients or those with known or suspected exposure.\n\n\n\nLed by Quest Diagnostics\, members include clinicians\, public health officials\, elected officials\, businesses\, and community organizations who are united in the conviction that comprehensive testing solutions\, along with mask wearing\, handwashing\, and social distancing\, are an essential component of the fight against COVID-19.\n\n\n\nThe alliance members use their unique platforms to empower people with information about testing to help slow the spread of COVID-19 and return to daily activities responsibly. By educating and empowering the public\, we will leverage testing to improve health outcomes and direct health policy decisions.\n\n\n\nWhat ACT Against COVID does:\n\n  \n\n  Raise awareness about the crucial role that comprehensive testing solutions\, including molecular\, antigen\, and antibody testing\, play in our country's fight against COVID-19 and our economic recovery.\n\n  Urge public health and elected officials to issue clear guidance on the role and value of testing.\n\n  Help educate individuals and organizations about different types of testing and how they are most effectively used.\n\n  Connect people with the resources they need to be informed.
X-ALT-DESC;FMTTYPE=text/html:<p>Join us for an in depth and critical conversation regarding Types of COVID Testing in our continued efforts to combat the spread and the role business owners have.<br />\n<br />\nACT Against COVID\, the Alliance for Comprehensive Testing\, is a diverse alliance committed to educating the public about the value of\, and how to access\, COVID-19 antigen and antibody testing.<br />\n<br />\nAntigen and antibody tests play an essential role in reducing the spread of COVID-19. They are scalable complements to PCR testing\, produce actionable results\, and are a critical part of minimizing the health<br />\nand economic impacts of the pandemic. Both tests enhance public health efficiency&mdash\;antigen tests can screen large numbers of people and produce results quickly\, while antibody tests eliminate redundancy<br />\nin testing\, indicate COVID-19 prevalence in the population\, and inform healthcare decisions for individuals.</p>\n\n<p>There are two&nbsp\;kinds of tests being used to detect current infections of COVID-19 (also known as SARS-CoV-2):&nbsp\;<strong>PCR (polymerase chain reaction) or molecular nucleic acid amplification tests (NAAT)&nbsp\;</strong>are primarily used as diagnostic tests for symptomatic patients or those with known or suspected exposure.<br />\n<br />\nLed by Quest Diagnostics\, members include clinicians\, public health officials\, elected officials\, businesses\, and community organizations who are united in the conviction that comprehensive testing solutions\, along with mask wearing\, handwashing\, and social distancing\, are an essential component of the fight against COVID-19.<br />\n<br />\nThe alliance members use their unique platforms to empower people with information about testing to help slow the spread of COVID-19 and return to daily activities responsibly. By educating and empowering the public\, we will leverage testing to improve health outcomes and direct health policy decisions.<br />\n<br />\n<span style="color:black\;"><span style="font-family:segoe ui\,sans-serif\;"><span style="font-size:10.0pt\;">What ACT Against COVID does:</span></span></span><br />\n&nbsp\;&nbsp\;<br />\n&bull\; Raise awareness about the crucial role that comprehensive testing solutions\, including molecular\, antigen\, and antibody testing\, play in our country&rsquo\;s fight against COVID-19 and our economic recovery.<br />\n&bull\; Urge public health and elected officials to issue clear guidance on the role and value of testing.<br />\n&bull\; Help educate individuals and organizations about different types of testing and how they are most effectively used.<br />\n&bull\; Connect people with the resources they need to be informed.</p>\n
LOCATION:Zoom Login information will be sent upon registration
UID:e.2083.12689
SEQUENCE:3
DTSTAMP:20260422T175953Z
URL:https://business.cmschamber.org/events/details/business-and-government-forum-act-against-covid-12689
END:VEVENT

END:VCALENDAR
