BEGIN:VCALENDAR
VERSION:2.0
PRODID:-//ChamberMaster//Event Calendar 2.0//EN
METHOD:PUBLISH
X-PUBLISHED-TTL:P3D
REFRESH-INTERVAL:P3D
CALSCALE:GREGORIAN
BEGIN:VEVENT
DTSTART:20231004T120000Z
DTEND:20231004T131500Z
X-MICROSOFT-CDO-ALLDAYEVENT:FALSE
SUMMARY:Business Breakfast - Personal Finance\, Coffee\, & Networking!
DESCRIPTION:Join professionals from around Worcester County for an informative talk on personal finance while enjoying some great coffee! Don't forget to stick around after for some networking!
X-ALT-DESC;FMTTYPE=text/html:Join professionals from around Worcester County for an informative talk on personal finance while enjoying some great coffee! Don&#39\;t forget to stick around after for some networking!
LOCATION:Acoustic Java 6 Brussels St. Worcester MA 01610
UID:e.2083.16662
SEQUENCE:3
DTSTAMP:20260420T171129Z
URL:https://business.cmschamber.org/events/details/business-breakfast-personal-finance-coffee-networking-16662
END:VEVENT

END:VCALENDAR
