BEGIN:VCALENDAR
VERSION:2.0
PRODID:-//ChamberMaster//Event Calendar 2.0//EN
METHOD:PUBLISH
X-PUBLISHED-TTL:P3D
REFRESH-INTERVAL:P3D
CALSCALE:GREGORIAN
BEGIN:VEVENT
DTSTART:20220701T160000Z
DTEND:20220701T170000Z
X-MICROSOFT-CDO-ALLDAYEVENT:FALSE
SUMMARY:Business Credit Series - Part 1
DESCRIPTION:As a new business owner with an officially registered business in this country\, you have the opportunity to build credit independent from your SSN. Business credit is so important when it comes to scaling & not only that but as a business owner\, there is more opportunities to build credit than to build personal credit as a consumer. This webinar is designed to help entrepreneurs start understanding business credit & what it entails as well as actually taking action early on in their businesses to open them up for more opportunities to scale.
X-ALT-DESC;FMTTYPE=text/html:<span style="color:rgb(0\, 0\, 0)\; font-family:lato\,arial\,helvetica\,sans-serif\; font-size:16px">As a new business owner with an officially registered business in this country\, you have the opportunity to build credit independent from your SSN. Business credit is so important when it comes to scaling &amp\; not only that but as a business owner\, there is more opportunities to build credit than to build personal credit as a consumer. This webinar is designed to help entrepreneurs start understanding business credit &amp\; what it entails as well as actually taking action early on in their businesses to open them up for more opportunities to scale.&nbsp\;</span>\n<div>&nbsp\;</div>\n
LOCATION:Zoom
UID:e.2083.13976
SEQUENCE:3
DTSTAMP:20260421T201832Z
URL:https://business.cmschamber.org/events/details/business-credit-series-part-1-13976
END:VEVENT

END:VCALENDAR
