BEGIN:VCALENDAR
VERSION:2.0
PRODID:-//ChamberMaster//Event Calendar 2.0//EN
METHOD:PUBLISH
X-PUBLISHED-TTL:P3D
REFRESH-INTERVAL:P3D
CALSCALE:GREGORIAN
BEGIN:VEVENT
DTSTART:20220706T160000Z
DTEND:20220706T170000Z
X-MICROSOFT-CDO-ALLDAYEVENT:FALSE
SUMMARY:Business Credit Series - Part 2
DESCRIPTION:Now that the framework around business credit has been established\, we will dive deeper into Cash & Credit Accounts for your business. Once a solid score is developed from the usage of vendor & retail credit\, the next step is to leverage this good score with other vehicles available for funding. We will talk about different types of revolving and non-revolving credit such as credit cards\, bank lines of credit and loans. We will discuss what type of credit will fit best based on your industry & line of work.
X-ALT-DESC;FMTTYPE=text/html:<span style="color:rgb(0\, 0\, 0)\; font-family:lato\,arial\,helvetica\,sans-serif\; font-size:16px">Now that the framework around business credit has been established\, we will dive deeper into Cash &amp\; Credit Accounts for your business. Once a solid score is developed from the usage of vendor &amp\; retail credit\, the next step is to leverage this good score with other vehicles available for funding. We will talk about different types of revolving and non-revolving credit such as credit cards\, bank lines of credit and loans. We will discuss what type of credit will fit best based on your industry &amp\; line of work.</span>\n<div>&nbsp\;</div>\n
LOCATION:Zoom.
UID:e.2083.13977
SEQUENCE:3
DTSTAMP:20260421T184431Z
URL:https://business.cmschamber.org/events/details/business-credit-series-part-2-13977
END:VEVENT

END:VCALENDAR
