BEGIN:VCALENDAR
VERSION:2.0
PRODID:-//ChamberMaster//Event Calendar 2.0//EN
METHOD:PUBLISH
X-PUBLISHED-TTL:P3D
REFRESH-INTERVAL:P3D
CALSCALE:GREGORIAN
BEGIN:VEVENT
DTSTART:20220714T160000Z
DTEND:20220714T170000Z
X-MICROSOFT-CDO-ALLDAYEVENT:FALSE
SUMMARY:Business Credit Series - Part 3
DESCRIPTION:The last webinar in this series will be all about best practices. As a new business owner building credit for your company\, there are so many things that you can miss because a lot of the things we are going to talk about is information not readily available to you. In this quest to having an excellent business score and relationship with lenders\, we will talk about some things to focus on\, what to watch out for and how you can maximize these relationships with this information.
X-ALT-DESC;FMTTYPE=text/html:<span style="color:rgb(0\, 0\, 0)\; font-family:lato\,arial\,helvetica\,sans-serif\; font-size:16px">The last webinar in this series will be all about best practices. As a new business owner building credit for your company\, there are so many things that you can miss because a lot of the things we are going to talk about is information not readily available to you. In this quest to having an excellent business score and relationship with lenders\, we will talk about some things to focus on\, what to watch out for and how you can maximize these relationships with this information.</span>
LOCATION:Zoom.
UID:e.2083.13980
SEQUENCE:3
DTSTAMP:20260421T185030Z
URL:https://business.cmschamber.org/events/details/business-credit-series-part-3-13980
END:VEVENT

END:VCALENDAR
