BEGIN:VCALENDAR
VERSION:2.0
PRODID:-//ChamberMaster//Event Calendar 2.0//EN
METHOD:PUBLISH
X-PUBLISHED-TTL:P3D
REFRESH-INTERVAL:P3D
CALSCALE:GREGORIAN
BEGIN:VEVENT
DTSTART:20191104T140000Z
DTEND:20191104T200000Z
X-MICROSOFT-CDO-ALLDAYEVENT:FALSE
SUMMARY:Business in a Box Workshop
DESCRIPTION:Join us in this full-day training as we teach you the marketing strategies that are proven to grow your small business!\n\n \n\n\n\n\n\n\n\nAbout this Event\n\n\n\nThis Business In A Box Workshop is intentionally held for a small group of 12 business owners to increase the amount of personalized strategy to each attendee. This workshop will dive deep into helping each owner customize their own marketing strategy in the following areas:\n\n\n	Creating a Marketing Strategy For Each Attendees Small Business\n	Learn How to Effectively Utilize Your Business Website\n	Explore Lead Generation Strategies to Grow Your Business\n	Learn to Design Email Marketing Campaigns and Newsletters\n	Examine Proven Social Media Marketing Strategies That Work\n	Identify What Content Your Target Audience Wants to Receive\n	Understand the Power of Event Marketing for Your Business\n	Explore the Basics of Search Engine Optimization and How it Can Help Your Business Grow\n	Utilizing Marketing Automation Systems to Make Your Life Easier\n	Consistently Obtaining Reviews and Testimonials to Generate New Business\n	Complete a Competition Analysis to See Where You Stand In Your Industry\n	And Much More...\n\n\nAll attendees will be served a delicious breakfast and lunch while learning the proven marketing strategies to take their businesses to the next level!\n\nRegister today to save your seat at this impactful workshop!
X-ALT-DESC;FMTTYPE=text/html:<div>\n<div>\n<div>\n<div>\n<p>&nbsp\;</p>\n\n<div><strong>Join us in this full-day training as we teach you the marketing strategies that are proven to grow your small business!</strong></div>\n\n<p>&nbsp\;</p>\n</div>\n</div>\n</div>\n</div>\n\n<div>\n<div>\n<h2>About this Event</h2>\n\n<div>\n<div>\n<p>This Business In A Box Workshop is intentionally held for a small group of 12 business owners to increase the amount of personalized strategy to each attendee. This workshop will dive deep into helping each owner customize their own marketing strategy in the following areas:</p>\n\n<ul>\n	<li>Creating a <strong>Marketing Strategy</strong> For Each Attendees Small Business</li>\n	<li>Learn How to Effectively Utilize Your <strong>Business Website</strong></li>\n	<li>Explore <strong>Lead Generation</strong> Strategies to Grow Your Business</li>\n	<li>Learn to Design <strong>Email Marketing</strong> Campaigns and Newsletters</li>\n	<li>Examine Proven <strong>Social Media Marketing</strong> Strategies That Work</li>\n	<li>Identify What <strong>Content </strong>Your Target Audience Wants to Receive</li>\n	<li>Understand the Power of <strong>Event Marketing</strong> for Your Business</li>\n	<li>Explore the Basics of <strong>Search Engine Optimization</strong> and How it Can Help Your Business Grow</li>\n	<li>Utilizing <strong>Marketing Automation Systems</strong> to Make Your Life Easier</li>\n	<li>Consistently Obtaining <strong>Reviews and Testimonials</strong> to Generate New Business</li>\n	<li>Complete a <strong>Competition Analysis</strong> to See Where You Stand In Your Industry</li>\n	<li>And Much More...</li>\n</ul>\n\n<p>All attendees will be served a delicious breakfast and lunch while learning the proven marketing strategies to take their businesses to the next level!</p>\n\n<p><strong><a href="https://www.eventbrite.com/e/business-in-a-box-workshop-tickets-73344105193">Register today</a></strong> to save your seat at this impactful workshop!</p>\n</div>\n</div>\n</div>\n</div>\n
LOCATION:Venture X 11 Apex Drive\, Suite 300A Marlborough\, MA 01752
UID:e.2083.10586
SEQUENCE:3
DTSTAMP:20260423T193347Z
URL:https://business.cmschamber.org/events/details/business-in-a-box-workshop-10586
END:VEVENT

END:VCALENDAR
