BEGIN:VCALENDAR
VERSION:2.0
PRODID:-//ChamberMaster//Event Calendar 2.0//EN
METHOD:PUBLISH
X-PUBLISHED-TTL:P3D
REFRESH-INTERVAL:P3D
CALSCALE:GREGORIAN
BEGIN:VEVENT
DTSTART:20230522T160000Z
DTEND:20230522T170000Z
X-MICROSOFT-CDO-ALLDAYEVENT:FALSE
SUMMARY:Business Lending
DESCRIPTION:This presentation will focus on business lending and additional resources for businesses. Capital obtained from business lending can be critical for growth and scaling of a business. During this session we will focus on:\n\n1) Importance of Business Basics \n\n2) Access to Capital\n\n3)Scaling your business\n\n4) Business Resources
X-ALT-DESC;FMTTYPE=text/html:<p>This presentation will focus on business lending and additional resources for businesses. Capital obtained from business lending can be critical for growth and scaling of a business. During this session we will focus on:</p>\n\n<p>1) Importance of Business Basics&nbsp\;</p>\n\n<p>2) Access to Capital</p>\n\n<p>3)Scaling your business</p>\n\n<p>4) Business Resources&nbsp\;</p>\n
LOCATION:Zoom
UID:e.2083.15941
SEQUENCE:3
DTSTAMP:20260421T024030Z
URL:https://business.cmschamber.org/events/details/business-lending-15941
END:VEVENT

END:VCALENDAR
