BEGIN:VCALENDAR
VERSION:2.0
PRODID:-//ChamberMaster//Event Calendar 2.0//EN
METHOD:PUBLISH
X-PUBLISHED-TTL:P3D
REFRESH-INTERVAL:P3D
CALSCALE:GREGORIAN
BEGIN:VEVENT
DTSTART:20230721T160000Z
DTEND:20230721T173000Z
X-MICROSOFT-CDO-ALLDAYEVENT:FALSE
SUMMARY:Business Plan Basics
DESCRIPTION:In this workshop\, we'll provide you with an overview of writing a business plan. There will also be time for attendees to ask questions. \n\nTopics include:\n\n\n	Why write a business plan?\n	Business plan vs business model canvas.\n	Overview of each section of a business plan.\n	Research and writing tips.\n	Resources for help and support\n\n\nDate: July 21\, 2023 | NOON - 1:30 PM\n\nCost: Thanks to the SBA-powered\, Community Navigator Pilot Program (CNPP)\, this training is provided FREE OF CHARGE!!!  The sliding scale information below is for your information. If you can no longer attend the class\, please reach out to us so someone else can take your spot. \n\nInstructor: Faye Longo\, CWE CNPP Project Manager - https://www.linkedin.com/in/faye-longo/
X-ALT-DESC;FMTTYPE=text/html:<p>In this workshop\, we&#39\;ll provide you with an overview of writing a business plan. There will also be time for attendees to ask questions.&nbsp\;</p>\n\n<p>Topics include:</p>\n\n<ul>\n	<li>Why write a business plan?</li>\n	<li>Business plan vs business model canvas.</li>\n	<li>Overview of each section of a business plan.</li>\n	<li>Research and writing tips.</li>\n	<li>Resources for help and support</li>\n</ul>\n\n<p><strong>Date:</strong>&nbsp\;July 21\, 2023 | NOON - 1:30 PM</p>\n\n<p><strong>Cost:</strong>&nbsp\;Thanks to the SBA-powered\, Community Navigator Pilot Program (CNPP)\, this training is provided&nbsp\;<strong>FREE OF CHARGE!!!</strong>&nbsp\; The sliding scale information below is for your information. If you can no longer attend the class\, please reach out to us so someone else can take your spot.&nbsp\;</p>\n\n<p><strong>Instructor:</strong>&nbsp\;Faye Longo\, CWE CNPP Project Manager -&nbsp\;<a href="https://www.linkedin.com/in/faye-longo/" style="color: rgb(45\, 119\, 179)\; text-decoration-line: none\;">https://www.linkedin.com/in/faye-longo/</a>&nbsp\;</p>\n
LOCATION:Zoom
UID:e.2083.15990
SEQUENCE:3
DTSTAMP:20260420T224707Z
URL:https://business.cmschamber.org/events/details/business-plan-basics-07-21-2023-15990
END:VEVENT

END:VCALENDAR
