BEGIN:VCALENDAR
VERSION:2.0
PRODID:-//ChamberMaster//Event Calendar 2.0//EN
METHOD:PUBLISH
X-PUBLISHED-TTL:P3D
REFRESH-INTERVAL:P3D
CALSCALE:GREGORIAN
BEGIN:VEVENT
DTSTART:20221115T123000Z
DTEND:20221115T140000Z
X-MICROSOFT-CDO-ALLDAYEVENT:FALSE
SUMMARY:Business Preparedness and Resiliency During Times of Disaster
DESCRIPTION:Floods. Tornadoes. Hurricanes.\n\nThey are increasing in frequency and intensity.\n\nAre you ready?\n\n\n\nBusiness Preparedness and Resiliency During Times of Disaster\n\nTuesday\, November 15\, 7:30-9:00am\n\nSouthbridge Hotel & Conference Center\n\n14 Mechanic Street\, Southbridge\n\n\n\nPresented by: Kevin Filchak\, Massachusetts Emergency Management Agency (MEMA)\n\n\n\nThis workshop will provide the tools necessary to identify\, mitigate\, prepare for\, respond to and recover from any and all hazards that may affect you and your business. This interactive session will draw on recent examples and lessons learned.\n\nTopics of discussion include\, but are not limited to:\n\n\n\n     Hazard identification and rating\n\n     Prioritization of hazards\n\n     The Preparedness Cycle\n\n        ? Plan\n\n        ? Organize and equip\n\n        ? Train\n\n        ? Exercise\n\n        ? Evaluate and improve\n\n     Recommended plans\n\n        ? Emergency operations plan\n\n        ? Continuity of business plan\n\n        ? Resource list\n\n     Tools and resources\n\n     Q&A\n\n\n\nMenu   The Vision\n\nScrambled Eggs with Fresh Herbs\, Smoke House Bacon\n\nSeasoned Breakfast Potatoes\, Sliced Seasonal Fruit with Honey Yogurt Dip\n\nAssorted Breakfast Baked Goods\n\nIndividual Chilled Juices\, Freshly Brewed Coffee\n\nDecaffeinated Coffee and Assorted Tea\n\n\n\nCost is $30 per person for Members.\n\nPlease RSVP by November 9 to reserve your spot.\n\nTo Register call 508-347-2761 or email info@cmschamber.org
X-ALT-DESC;FMTTYPE=text/html:<p style="text-align:left"><strong>Floods. Tornadoes. Hurricanes.<br />\nThey are increasing in frequency and intensity.<br />\nAre you ready?</strong><br />\n<br />\n<span style="font-size:16px"><strong>Business Preparedness and Resiliency During Times of Disaster</strong></span><br />\nTuesday\, November 15\, 7:30-9:00am<br />\nSouthbridge Hotel &amp\; Conference Center<br />\n14 Mechanic Street\, Southbridge<br />\n<br />\n<strong>Presented by:</strong> Kevin Filchak\, Massachusetts Emergency Management Agency (MEMA)<br />\n<br />\nThis workshop will provide the tools necessary to identify\, mitigate\, prepare for\, respond to and recover from any and all hazards that may affect you and your business. This interactive session will draw on recent examples and lessons learned.<br />\nTopics of discussion include\, but are not limited to:<br />\n<br />\n&bull\; &nbsp\; &nbsp\;Hazard identification and rating<br />\n&bull\; &nbsp\; &nbsp\;Prioritization of hazards<br />\n&bull\; &nbsp\; &nbsp\;The Preparedness Cycle<br />\n&nbsp\; &nbsp\; &nbsp\; &nbsp\; ? Plan<br />\n&nbsp\; &nbsp\; &nbsp\; &nbsp\; ? Organize and equip<br />\n&nbsp\; &nbsp\; &nbsp\; &nbsp\; ? Train<br />\n&nbsp\; &nbsp\; &nbsp\; &nbsp\; ? Exercise<br />\n&nbsp\; &nbsp\; &nbsp\; &nbsp\; ? Evaluate and improve<br />\n&bull\; &nbsp\; &nbsp\;Recommended plans<br />\n&nbsp\; &nbsp\; &nbsp\; &nbsp\; ? Emergency operations plan<br />\n&nbsp\; &nbsp\; &nbsp\; &nbsp\; ? Continuity of business plan<br />\n&nbsp\; &nbsp\; &nbsp\; &nbsp\; ? Resource list<br />\n&bull\; &nbsp\; &nbsp\;Tools and resources<br />\n&bull\; &nbsp\; &nbsp\;Q&amp\;A<br />\n<br />\n<strong>Menu &ndash\; The Vision</strong><br />\nScrambled Eggs with Fresh Herbs\, Smoke House Bacon<br />\nSeasoned Breakfast Potatoes\, Sliced Seasonal Fruit with Honey Yogurt Dip<br />\nAssorted Breakfast Baked Goods<br />\nIndividual Chilled Juices\, Freshly Brewed Coffee<br />\nDecaffeinated Coffee and Assorted Tea<br />\n<br />\nCost is $30 per person for Members.<br />\n<strong>Please RSVP by November 9 to reserve your spot.</strong></p>\n\n<p style="text-align:left"><strong>To Register </strong>call 508-347-2761 or email <a href="mailto:info@cmschamber.org" style="user-select: auto\;">info@cmschamber.org</a></p>\n
LOCATION:Southbridge Hotel & Conference Center 14 Mechanic Street\, Southbridge
UID:e.2083.14821
SEQUENCE:3
DTSTAMP:20260421T143830Z
URL:https://business.cmschamber.org/events/details/business-preparedness-and-resiliency-during-times-of-disaster-14821
END:VEVENT

END:VCALENDAR
