BEGIN:VCALENDAR
VERSION:2.0
PRODID:-//ChamberMaster//Event Calendar 2.0//EN
METHOD:PUBLISH
X-PUBLISHED-TTL:P3D
REFRESH-INTERVAL:P3D
CALSCALE:GREGORIAN
BEGIN:VEVENT
DTSTART:20221027T220000Z
DTEND:20221027T230000Z
X-MICROSOFT-CDO-ALLDAYEVENT:FALSE
SUMMARY:Business Strategy for Growth
DESCRIPTION:Every day\, owners and managers take actions to advance and grow their business. Strategic decisions are made in uncertain conditions and involve considerable trade-offs. This program will highlight the importance of knowing the external environment and your business mission and model\, as well as setting impactful goals and priorities.
X-ALT-DESC;FMTTYPE=text/html:<div>Every day\, owners and managers take actions to advance and grow their business. Strategic decisions are made in uncertain conditions and involve considerable trade-offs. This program will highlight the importance of knowing the external environment and your business mission and model\, as well as setting impactful goals and priorities.</div>\n\n<div>&nbsp\;</div>\n
LOCATION:Zoom
UID:e.2083.14756
SEQUENCE:3
DTSTAMP:20260421T142214Z
URL:https://business.cmschamber.org/events/details/business-strategy-for-growth-14756
END:VEVENT

END:VCALENDAR
