BEGIN:VCALENDAR
VERSION:2.0
PRODID:-//ChamberMaster//Event Calendar 2.0//EN
METHOD:PUBLISH
X-PUBLISHED-TTL:P3D
REFRESH-INTERVAL:P3D
CALSCALE:GREGORIAN
BEGIN:VEVENT
DTSTART:20191106T220000Z
DTEND:20191107T000000Z
X-MICROSOFT-CDO-ALLDAYEVENT:FALSE
SUMMARY:BV - Business After Hours\; Martys Fine Wines
DESCRIPTION:Join us to "Network & Nosh"\n\nComplimentary wine and beer tasting \n\n Light Hors D'Oeuvres\n\n \n\nMarty's has a lot to offer!!\n\n*Craft Beer Superstore (Hard to Find) Crafts Beers - IPA- Ciders.\n\n*Craft Beer tasting Every Friday from 4-6PM\n\n*Complimentary Wine Tastings every Saturday from 1-4PM \n\nwith Wine Expert Andrew Carmody\n\n*Full Service Deli. Boar's Head Sandwiches.\n\n*Thanksgiving Wine Tasting Event \n\nSaturday November 16 from 1-5 PM.
X-ALT-DESC;FMTTYPE=text/html:<p><span style="font-size:14px"><span style="font-family:arial\,helvetica\,sans-serif"><span style="color:#E65D43">Join us to &ldquo\;Network &amp\; Nosh&rdquo\;</span><br />\n<span style="color:#E65D43">Complimentary wine and beer tasting </span><br />\n<span style="color:#E65D43">&nbsp\;Light Hors D&rsquo\;Oeuvres</span><br />\n&nbsp\;<br />\n<strong><u><span style="color:#E65D43">Marty&rsquo\;s has a lot to offer!!</span></u></strong><br />\n<strong><span style="color:#E65D43">*Craft Beer Superstore (Hard to Find) Crafts Beers - IPA- Ciders.</span></strong><br />\n<strong><span style="color:#E65D43">*Craft Beer tasting Every Friday from 4-6PM</span></strong><br />\n<strong><span style="color:#E65D43">*Complimentary Wine Tastings every Saturday from 1-4PM </span></strong><br />\n<strong><span style="color:#E65D43">with Wine Expert Andrew Carmody</span></strong><br />\n<strong><span style="color:#E65D43">*Full Service Deli. Boar&#39\;s Head Sandwiches.</span></strong><br />\n<strong><span style="color:#E65D43">*Thanksgiving Wine Tasting Event </span></strong><br />\n<strong><span style="color:#E65D43">Saturday November 16 from 1-5 PM</span></strong><strong><span style="color:#E65D43">.</span></strong></span></span></p>\n
LOCATION:Marty's Fine Wines 1 Buxton Street Milville\, MA
UID:e.2083.11638
SEQUENCE:3
DTSTAMP:20260423T211659Z
URL:https://business.cmschamber.org/events/details/bv-business-after-hours-martys-fine-wines-11638
END:VEVENT

END:VCALENDAR
