BEGIN:VCALENDAR
VERSION:2.0
PRODID:-//ChamberMaster//Event Calendar 2.0//EN
METHOD:PUBLISH
X-PUBLISHED-TTL:P3D
REFRESH-INTERVAL:P3D
CALSCALE:GREGORIAN
BEGIN:VEVENT
DTSTART:20191106T130000Z
DTEND:20191106T140000Z
X-MICROSOFT-CDO-ALLDAYEVENT:FALSE
SUMMARY:BV -Understanding New Overtime Regulations
DESCRIPTION:The Department of Labor's new overtime rules go into effect January 1\, 2020.  Avoid compliance issues and the risk liability for back wages by attending this informative workshop.\n\n\nTHIS WORKSHOP WILL COVER:\n\n----\n\nOVERTIME PAY REQUIREMENTS\n\n----\n\nUNDERSTANDING THE DIFERECE BETWEEN EXEMPT AND NON EXEMPT EMPLOYEES\n\n----\n\nOVERVIEW OF PREPARING JOB DESCRIPTIONS TO ENSURE ALL POSITIONS ARE CLEARLY DEFINED\n\n\n\nConducted by Quality Transitions\, Human Resources Solution specialists
X-ALT-DESC;FMTTYPE=text/html:<p><span style="font-family:arial\,helvetica\,sans-serif"><strong>The Department of Labor&rsquo\;s new overtime rules go into effect January 1\, 2020.&nbsp\; Avoid compliance issues and the risk liability for back wages by attending this informative workshop.</strong></span></p>\n\n<div style="background:#4B651C\; border:solid #4B651C 1.0pt\; margin-left:.2in\; margin-right:.2in\; padding:31.0pt 12.0pt 31.0pt 12.0pt">\n<p style="margin-left:\n margin-right:0in"><span style="font-family:arial\,helvetica\,sans-serif">THIS WORKSHOP WILL COVER:</span></p>\n\n<p style="margin-left:\n margin-right:0in"><span style="font-family:arial\,helvetica\,sans-serif">----</span></p>\n\n<p style="margin-left:\n margin-right:0in"><span style="font-family:arial\,helvetica\,sans-serif">OVERTIME PAY REQUIREMENTS</span></p>\n\n<p style="margin-left:\n margin-right:0in"><span style="font-family:arial\,helvetica\,sans-serif">----</span></p>\n\n<p style="margin-left:\n margin-right:0in"><span style="font-family:arial\,helvetica\,sans-serif">UNDERSTANDING THE DIFERECE BETWEEN EXEMPT AND NON EXEMPT EMPLOYEES</span></p>\n\n<p style="margin-left:\n margin-right:0in"><span style="font-family:arial\,helvetica\,sans-serif">----</span></p>\n\n<p style="margin-left:\n margin-right:0in"><span style="font-family:arial\,helvetica\,sans-serif">OVERVIEW OF PREPARING JOB DESCRIPTIONS TO ENSURE ALL POSITIONS ARE CLEARLY DEFINED</span></p>\n</div>\n<br />\n<span style="font-size:14px"><strong><span style="font-family:georgia\,serif">Conducted by Quality Transitions\, Human Resources Solution specialists</span></strong></span>
LOCATION:Blackstone Valley Chamber of Commerce 670 Linwood Avenue Whitinsville MA 01588
UID:e.2083.11637
SEQUENCE:3
DTSTAMP:20260423T211439Z
URL:https://business.cmschamber.org/events/details/bv-understanding-new-overtime-regulations-11637
END:VEVENT

END:VCALENDAR
