BEGIN:VCALENDAR
VERSION:2.0
PRODID:-//ChamberMaster//Event Calendar 2.0//EN
METHOD:PUBLISH
X-PUBLISHED-TTL:P3D
REFRESH-INTERVAL:P3D
CALSCALE:GREGORIAN
BEGIN:VEVENT
DTSTART:20201211T133000Z
DTEND:20201211T140000Z
X-MICROSOFT-CDO-ALLDAYEVENT:FALSE
SUMMARY:Caffeinate Your Company: A Taste of Eforever
DESCRIPTION:Grab your morning cup of "joe" and join us to learn how to energize your entrepreneurship with the support of other owners just like you. About this Event Bring your coffee to learn more about eforever's entrepreneur peer groups! All business owners are invited to join us to get a taste of the peer-to-peer experience\, network with other business owners\, and discover how eforever peer groups can help your business grow stronger Friday\, December 11th from 8:30 a.m. - 9 a.m. Stick around to network after the session!
X-ALT-DESC;FMTTYPE=text/html:Grab your morning cup of &quot\;joe&quot\; and join us to learn how to energize your entrepreneurship with the support of other owners just like you. About this Event Bring your coffee to learn more about eforever&rsquo\;s entrepreneur peer groups! All business owners are invited to join us to get a taste of the peer-to-peer experience\, network with other business owners\, and discover how eforever peer groups can help your business grow stronger Friday\, December 11th from 8:30 a.m. - 9 a.m. Stick around to network after the session!
LOCATION:Zoom
UID:e.2083.12435
SEQUENCE:3
DTSTAMP:20260422T224816Z
URL:https://business.cmschamber.org/events/details/caffeinate-your-company-a-taste-of-eforever-12435
END:VEVENT

END:VCALENDAR
