BEGIN:VCALENDAR
VERSION:2.0
PRODID:-//ChamberMaster//Event Calendar 2.0//EN
METHOD:PUBLISH
X-PUBLISHED-TTL:P3D
REFRESH-INTERVAL:P3D
CALSCALE:GREGORIAN
BEGIN:VEVENT
DTSTART:20221028T220000Z
DTEND:20221029T020000Z
X-MICROSOFT-CDO-ALLDAYEVENT:FALSE
SUMMARY:Camp Marshall's 3rd Annual Halloween Weekend
DESCRIPTION:Join Camp Marshall for our 3rd annual Halloween Weekend Celebration. Come visit our Haunted Campground from 7pm -10pm Friday\, Saturday and Sunday. Enjoy our beer garden hosted by East Brookfields own Timberyard Brewing Co. from 6pm - 10pm Friday and Sunday and from 3pm - 10pm on Saturday. Bring the little ones for Trunk or Treat on Saturday from  3pm - 5pm\, stay for family fun and get a jump on Holiday shopping at our craft fair from 3pm - 7pm. We will have hayrides\, food booth and family games for all starting at 2pm on Saturday. Come join in the Halloween weekend fun!
X-ALT-DESC;FMTTYPE=text/html:Join Camp Marshall for our 3rd annual Halloween Weekend Celebration. Come visit our Haunted Campground from 7pm -10pm Friday\, Saturday and Sunday. Enjoy our beer garden hosted by East Brookfields own Timberyard Brewing Co. from 6pm - 10pm Friday and Sunday and from 3pm - 10pm on Saturday. Bring the little ones for Trunk or Treat on Saturday from&nbsp\; 3pm - 5pm\, stay for family fun and get a jump on Holiday shopping at our craft fair from 3pm - 7pm. We will have hayrides\, food booth and family games for all starting at 2pm on Saturday. Come join in the Halloween weekend fun!
LOCATION:Camp Marshall is located at 92 McCormick Rd. in Spencer MA.
UID:e.2083.14799
SEQUENCE:3
DTSTAMP:20260421T141730Z
URL:https://business.cmschamber.org/events/details/camp-marshall-s-3rd-annual-halloween-weekend-14799
END:VEVENT

END:VCALENDAR
