BEGIN:VCALENDAR
VERSION:2.0
PRODID:-//ChamberMaster//Event Calendar 2.0//EN
METHOD:PUBLISH
X-PUBLISHED-TTL:P3D
REFRESH-INTERVAL:P3D
CALSCALE:GREGORIAN
BEGIN:VEVENT
DTSTART:20220818T130000Z
DTEND:20220818T170000Z
X-MICROSOFT-CDO-ALLDAYEVENT:FALSE
SUMMARY:Canal District Beautification
DESCRIPTION:Join the Worcester Green Corps and the Sheriff's Department for a morning of beautifying the Canal District! We will be cleaning litter\, weeding\, and mulching the tree pits in the area.
X-ALT-DESC;FMTTYPE=text/html:Join the Worcester Green Corps and the Sheriff&#39\;s Department for a morning of beautifying the Canal District! We will be cleaning litter\, weeding\, and mulching the tree pits in the area.&nbsp\;
LOCATION:We will be meeting at the Lock 50 patio\, located at 50 Water Street.
UID:e.2083.14063
SEQUENCE:3
DTSTAMP:20260421T171644Z
URL:https://business.cmschamber.org/events/details/canal-district-beautification-14063
END:VEVENT

END:VCALENDAR
