BEGIN:VCALENDAR
VERSION:2.0
PRODID:-//ChamberMaster//Event Calendar 2.0//EN
METHOD:PUBLISH
X-PUBLISHED-TTL:P3D
REFRESH-INTERVAL:P3D
CALSCALE:GREGORIAN
BEGIN:VEVENT
DTSTART:20230318T150000Z
DTEND:20230318T170000Z
X-MICROSOFT-CDO-ALLDAYEVENT:FALSE
SUMMARY:Canal District Community Cleanup
DESCRIPTION:Join Worcester Green Corps\, the Canal District Neighborhood Alliance\, the Canal District Business Alliance\, and Clark University's NRHH for a cleanup of the Canal District! We will provide all necessary supplies\, just come along with a friend or two\, a good attitude\, and clothes comfortable for the weather  to help beautify our community.
X-ALT-DESC;FMTTYPE=text/html:Join Worcester Green Corps\, the Canal District Neighborhood Alliance\, the Canal District Business Alliance\, and Clark University&#39\;s NRHH for a cleanup of the Canal District! We will provide all necessary supplies\, just come along with a friend or two\, a good attitude\, and clothes comfortable for the weather&nbsp\; to help beautify our community.
LOCATION:TBD
UID:e.2083.15466
SEQUENCE:3
DTSTAMP:20260421T055608Z
URL:https://business.cmschamber.org/events/details/canal-district-community-cleanup-15466
END:VEVENT

END:VCALENDAR
