BEGIN:VCALENDAR
VERSION:2.0
PRODID:-//ChamberMaster//Event Calendar 2.0//EN
METHOD:PUBLISH
X-PUBLISHED-TTL:P3D
REFRESH-INTERVAL:P3D
CALSCALE:GREGORIAN
BEGIN:VEVENT
DTSTART:20200313T111500Z
DTEND:20200313T130000Z
X-MICROSOFT-CDO-ALLDAYEVENT:FALSE
SUMMARY:CANCELLED _ Connect For Success Group #2
DESCRIPTION:Due to the Coronavirus (COVID-19)\,the Chamber has decided to cancel all events through March 31st.  \n\n \n\n\n\n\n\n\n\nThe Worcester Regional Chamber of Commerce\n\nConnect for Success 2 program was established to give our members more business!\n\nComplimentary coffee is available to get you ready for a day of sales!\n\n  Make connections to grow your business\n\n  Professionals from non-competing industries\n\n  Meet twice a month\n\n  Share qualified referrals\n\n  Network and build relationships\n\n  Ideal for individuals who need to initiate sales\n\nbut dislike cold calling\n\n  This program is free with your Chamber membership
X-ALT-DESC;FMTTYPE=text/html:<span style="color:#FF0000\;"><span style="font-size:14.0pt\;">Due to the </span><span style="font-size:14.0pt\;">Coronavirus (COVID-19)\,t</span></span><span style="font-size:14.0pt\;"><span style="color:#FF0000\;">he Chamber has decided to <u>cancel all events through March 31<sup>st</sup></u>.&nbsp\;</span> </span><br />\n&nbsp\;<br />\n<br />\n<br />\n<br />\n<span style="font-size: 11px\;"><span style="font-family: tahoma\;">The Worcester Regional Chamber of Commerce<br />\n<strong>Connect for Success 2&nbsp\;program </strong>was established to give our members more business!<br />\nComplimentary coffee is available to get you ready for a day of sales!<br />\n&bull\; Make connections to grow your business<br />\n&bull\; Professionals from non-competing industries<br />\n&bull\; Meet twice a month<br />\n&bull\; Share qualified referrals<br />\n&bull\; Network and build relationships<br />\n&bull\; Ideal for individuals who need to initiate sales<br />\nbut dislike cold calling<br />\n&bull\; This program is free with your Chamber membership</span></span>
LOCATION:George & Sybil Fuller Conference Room Worcester Regional Chamber of Commerce 311 Main Street\, Suite 200 Worcester\, MA
UID:e.2083.4571
SEQUENCE:3
DTSTAMP:20260423T131037Z
URL:https://business.cmschamber.org/events/details/cancelled-_-connect-for-success-group-2-4571
END:VEVENT

END:VCALENDAR
