BEGIN:VCALENDAR
VERSION:2.0
PRODID:-//ChamberMaster//Event Calendar 2.0//EN
METHOD:PUBLISH
X-PUBLISHED-TTL:P3D
REFRESH-INTERVAL:P3D
CALSCALE:GREGORIAN
BEGIN:VEVENT
DTSTART:20230216T203000Z
DTEND:20230216T220000Z
X-MICROSOFT-CDO-ALLDAYEVENT:FALSE
SUMMARY:Cell Engineering Research Equipment Suite Industry Open House
DESCRIPTION:*SYNTHETIC BIOLOGY**TISSUE ENGINEERING**CELL ENGINEERING* *GENE THERAPY**BIOLOGICS* \n \n\nA facility designed for cell engineering/cell analytic researchers looking for cost-effective access to cutting edge analytical equipment. obtain qualitative data\, create chemical screen libraries\, high-through put genomics testing\, DNA Assembly\, and combinatorial screening.\n\n \n\n?   HEAR GUEST LECTURE: \n\n \n\nADVANCE THE ENGINEERING NON-CONVENTIONAL MICROBES UTILIZING DDPCR & FLOW CYTOMETER Kevin Keating\, Teaching Assistant\, Department of Chemical Engineering\, \n\n \n\n?  DEMONSTRATIONS:\n\n \n\nSEE DDPCR & FLOW CYTOMETER UTILIZATION\n\nKenneth Dwyer\, Ph.D\, CERES Lab Manager\n\n \n\n ?FACILITY TOUR
X-ALT-DESC;FMTTYPE=text/html:*SYNTHETIC BIOLOGY**TISSUE ENGINEERING**CELL ENGINEERING* *GENE THERAPY**BIOLOGICS*&nbsp\;\n<div>&nbsp\;</div>\n\n<div>A facility designed for cell engineering/cell analytic researchers looking for cost-effective access to cutting edge analytical equipment. obtain qualitative data\, create chemical screen libraries\, high-through put genomics testing\, DNA Assembly\, and combinatorial screening.</div>\n\n<div>&nbsp\;</div>\n\n<div>?&nbsp\; &nbsp\;HEAR GUEST LECTURE:&nbsp\;</div>\n\n<div>&nbsp\;</div>\n\n<div style="text-align: center\;">ADVANCE THE ENGINEERING NON-CONVENTIONAL MICROBES UTILIZING DDPCR &amp\; FLOW CYTOMETER Kevin Keating\, Teaching Assistant\, Department of Chemical Engineering\,&nbsp\;</div>\n\n<div>&nbsp\;</div>\n\n<div>?&nbsp\; DEMONSTRATIONS:<br />\n&nbsp\;</div>\n\n<div style="text-align: center\;">SEE DDPCR &amp\; FLOW CYTOMETER UTILIZATION<br />\nKenneth Dwyer\, Ph.D\, CERES Lab Manager</div>\n\n<div>&nbsp\;</div>\n\n<div>&nbsp\;?FACILITY TOUR</div>\n
LOCATION:Worcester Polytechnic Institute Gateway II 50 Prescott Street 2nd Floor\, BETC Worcester\, MA
UID:e.2083.15076
SEQUENCE:3
DTSTAMP:20260421T074903Z
URL:https://business.cmschamber.org/events/details/cell-engineering-research-equipment-suite-industry-open-house-15076
END:VEVENT

END:VCALENDAR
