BEGIN:VCALENDAR
VERSION:2.0
PRODID:-//ChamberMaster//Event Calendar 2.0//EN
METHOD:PUBLISH
X-PUBLISHED-TTL:P3D
REFRESH-INTERVAL:P3D
CALSCALE:GREGORIAN
BEGIN:VEVENT
DTSTART:20221017T150000Z
DTEND:20221017T170000Z
X-MICROSOFT-CDO-ALLDAYEVENT:FALSE
SUMMARY:Certification for Your Business: One Entrepreneur's Story
DESCRIPTION:Join us to hear from Akshata Nayak\, a CWE Vermont Core Counselor and entrepreneur\, about her experience with getting certified as a woman-owned business. Topics will include:\n\n\n	Why certifying your business as woman-owned is good for business\n	How certification can help you expand your business network and ultimately grow your business through contracts with corporations\, colleges and universities\, and government entities\n	Whether your business is a good candidate for certification\n	What the certification process entails and how to get started
X-ALT-DESC;FMTTYPE=text/html:<p>Join us to hear from Akshata Nayak\, a CWE Vermont Core Counselor and entrepreneur\, about her experience with getting certified as a woman-owned business. Topics will include:</p>\n\n<ul>\n	<li>Why certifying your business as woman-owned is good for business</li>\n	<li>How certification can help you expand your business network and ultimately grow your business through contracts with corporations\, colleges and universities\, and government entities</li>\n	<li>Whether your business is a good candidate for certification</li>\n	<li>What the certification process entails and how to get started</li>\n</ul>\n
LOCATION:Zoom
UID:e.2083.14752
SEQUENCE:3
DTSTAMP:20260421T155039Z
URL:https://business.cmschamber.org/events/details/certification-for-your-business-one-entrepreneur-s-story-14752
END:VEVENT

END:VCALENDAR
