BEGIN:VCALENDAR
VERSION:2.0
PRODID:-//ChamberMaster//Event Calendar 2.0//EN
METHOD:PUBLISH
X-PUBLISHED-TTL:P3D
REFRESH-INTERVAL:P3D
CALSCALE:GREGORIAN
BEGIN:VEVENT
DTSTART:20230427T224500Z
DTEND:20230428T020000Z
X-MICROSOFT-CDO-ALLDAYEVENT:FALSE
SUMMARY:Chamber Box - WooSox Game
DESCRIPTION:Chamber has 20 tix for Box
X-ALT-DESC;FMTTYPE=text/html:Chamber has 20 tix for Box
LOCATION:
UID:e.2083.15018
SEQUENCE:3
DTSTAMP:20260421T042031Z
URL:https://business.cmschamber.org/events/details/chamber-box-woosox-game-15018
END:VEVENT

END:VCALENDAR
