BEGIN:VCALENDAR
VERSION:2.0
PRODID:-//ChamberMaster//Event Calendar 2.0//EN
METHOD:PUBLISH
X-PUBLISHED-TTL:P3D
REFRESH-INTERVAL:P3D
CALSCALE:GREGORIAN
BEGIN:VEVENT
DTSTART;VALUE=DATE:20221031
DTEND;VALUE=DATE:20221110
TRANSP:TRANSPARENT
X-MICROSOFT-CDO-ALLDAYEVENT:TRUE
SUMMARY:Chamber Reflections of Italy Trip
DESCRIPTION:Embark on a captivating journey that takes you from the piazzas of Rome to the canals of Venice. Discover the rolling hills of the scenic Tuscan and Umbrian countryside. Explore medieval hill towns and visit Assisi\, the birthplace of St. Francis. Spend time at a historic winery in the heart of the Chianti region and enjoy a chef-led cooking class with lunch. Discover the masterpieces of the Renaissance in Florence. See glass transformed into exquisite art on Murano Island. Linger in iconic Venice for 2 nights. Take in the lively city of Milan. Encounter a land rich in history\, culture\, art and romance.\n\n\n\n10 Days   12 Meals: 8 Breakfasts   1 Lunch   3 Dinners\n\n\n\nIncluded in Price:\n\nRoundtrip Airfare\, Attraction\, Miscellaneous\, Air Taxes\, Hotel Transfers\n\n\n\n\n\nMake Your Travel Plans Confidently. COVID related refunds: \n\n \n\nIf Collette needs to cancel the tour\, guests are given an option for 100% of their money back.  \n\n \n\nThey also offer a Travel Protection Waiver\, which each guest is encouraged to purchase:\n\nGo ahead and book that dream trip\, because when you purchase Collette's industry-leading Travel Protection Plan\, you can cancel for any reason and get your money back   all the way up to 24 hours before your trip departs. They've offered this plan for decades to give travelers assurance every step of the way   with no blackout windows or hidden restrictions.\n\nEvery tour\, every departure\, every time. Collette has you covered.
X-ALT-DESC;FMTTYPE=text/html:<span style="font-size:14px\;"><span style="font-family:arial\;"><span style="color: rgb(56\, 58\, 61)\; text-align: center\;">Embark on a captivating journey that takes you from the piazzas of Rome to the canals of Venice. Discover the rolling hills of the scenic Tuscan and Umbrian countryside. Explore medieval hill towns and visit Assisi\, the birthplace of St. Francis. Spend time at a historic winery in the heart of the Chianti region and enjoy a chef-led cooking class with lunch. Discover the masterpieces of the Renaissance in Florence. See glass transformed into exquisite art on Murano Island. Linger in iconic Venice for 2 nights. Take in the lively city of Milan. Encounter a land rich in history\, culture\, art and romance.</span><br />\n<br />\n10 Days &#9679\; 12 Meals: 8 Breakfasts &#9679\; 1 Lunch &#9679\; 3 Dinners<br />\n<br />\nIncluded in Price:<br />\nRoundtrip Airfare\, Attraction\, Miscellaneous\, Air Taxes\, Hotel Transfers</span></span><br />\n<br />\n<br />\n<span style="color:black\;"><span style="font-size:12.0pt\;">Make Your Travel Plans Confidently. COVID related refunds: </span></span><br />\n&nbsp\;<br />\n<span style="color:black\;"><span style="font-size:12.0pt\;">If Collette needs to cancel the tour\, guests are given an option for 100% of their money back.&nbsp\; </span></span><br />\n&nbsp\;<br />\n<span style="color:black\;"><span style="font-size:12.0pt\;">They also offer a Travel Protection Waiver\, which each guest is encouraged to purchase:</span></span><br />\n<span style="color:black\;"><span style="font-size:12.0pt\;">Go ahead and book that dream trip\, because when you purchase Collette&rsquo\;s industry-leading Travel Protection Plan\, you can&nbsp\;<strong>cancel for any reason and get your money back &ndash\; all the way up to 24 hours before your trip departs.</strong>&nbsp\;They&rsquo\;ve offered this plan for decades to give travelers assurance every step of the way &ndash\; with no blackout windows or hidden restrictions.</span></span><br />\n<span style="color:black\;"><span style="font-size:12.0pt\;">Every tour\, every departure\, every time. Collette has you covered.</span></span><br />\n&nbsp\;
LOCATION:
UID:e.2083.13057
SEQUENCE:3
DTSTAMP:20260421T125915Z
URL:https://business.cmschamber.org/events/details/chamber-reflections-of-italy-trip-13057
END:VEVENT

END:VCALENDAR
