BEGIN:VCALENDAR
VERSION:2.0
PRODID:-//ChamberMaster//Event Calendar 2.0//EN
METHOD:PUBLISH
X-PUBLISHED-TTL:P3D
REFRESH-INTERVAL:P3D
CALSCALE:GREGORIAN
BEGIN:VEVENT
DTSTART;VALUE=DATE:20220513
DTEND;VALUE=DATE:20220514
TRANSP:TRANSPARENT
X-MICROSOFT-CDO-ALLDAYEVENT:TRUE
SUMMARY:Chamber Scholarship application for The Heartwell Institute training
DESCRIPTION:Mindfulness as a Catalyst for Collective Healing program which runs 5 Fridays in June/July (option 2 here). The Chamber is able to offer a scholarship for 3 individuals to participate. \n\n\n\nApply by registering here by Friday\, May 13.\n\n \n\n \n\nOutcomes of the training include:\n\n	Learn how to apply mindfulness for stress-relief\, self-compassion\, and improved wellness in your everyday life\n	Deep listening skills\, mindful communication\, and authentic relationships\n	Practice in nurturing your relationship with yourself and others\n	Awareness of the role you play living in a racialized system\n	Awareness of the role you play in creating positive change in this world\n	Learn how to approach your social conditioning with compassion\n	Build skills to move towards cultural proficiency\n	4 mindfulness audio files and training manual for long-term practice
X-ALT-DESC;FMTTYPE=text/html:Mindfulness as a Catalyst for&nbsp\;Collective Healing program which runs 5 Fridays in June/July (option 2 <a href="https://chambermaster.blob.core.windows.net/userfiles/UserFiles/chambers/2083/File/MindfulnessasaCatalyst.pdf">here</a>). The Chamber is able to offer a scholarship for 3 individuals to participate.&nbsp\;<br />\n<br />\nApply by registering here by Friday\, May 13.<br />\n&nbsp\;<br />\n&nbsp\;<br />\nOutcomes of the training include:\n<ul>\n	<li>Learn how to apply mindfulness for stress-relief\, self-compassion\, and improved wellness in your everyday life</li>\n	<li>Deep listening skills\, mindful communication\, and authentic relationships</li>\n	<li>Practice in nurturing your relationship with yourself and others</li>\n	<li>Awareness of the role you play living in a racialized system</li>\n	<li>Awareness of the role you play in creating positive change in this world</li>\n	<li>Learn how to approach your social conditioning with compassion</li>\n	<li>Build skills to move towards cultural proficiency</li>\n	<li>4 mindfulness audio files and training manual for long-term practice</li>\n</ul>\n
LOCATION:
UID:e.2083.13939
SEQUENCE:3
DTSTAMP:20260421T232715Z
URL:https://business.cmschamber.org/events/details/chamber-scholarship-application-for-the-heartwell-institute-training-13939
END:VEVENT

END:VCALENDAR
