BEGIN:VCALENDAR
VERSION:2.0
PRODID:-//ChamberMaster//Event Calendar 2.0//EN
METHOD:PUBLISH
X-PUBLISHED-TTL:P3D
REFRESH-INTERVAL:P3D
CALSCALE:GREGORIAN
BEGIN:VEVENT
DTSTART:20230914T220000Z
DTEND:20230915T010000Z
X-MICROSOFT-CDO-ALLDAYEVENT:FALSE
SUMMARY:Champions for Children celebration\, CASA Project's 5th annual
DESCRIPTION:Join us on September 14th at The Glass Tower (top floors of the Synergy building in downtown Worcester)\, a new and exciting venue\, for an evening to remember! Enjoy local culinary delights\, live entertainment\, and a silent auction while uplifting CASA's mission of advocacy for the most vulnerable children in our community.\n\nThis one-of-a-kind event will appeal to a diverse audience and feature multicultural food offerings from local vendors\, as well as an inspiring awards ceremony\, and live entertainment. Champions for Children raises vital funds to help LOCAL children thrive despite the odds being against them. The funds raised will help train CASA volunteers to amplify the voices of children in need in Worcester County. For sponsors\, this is a chance to change a child's story and significantly elevate your brand. Individual tickets are also available -- the event WILL sell out early. Your contribution will provide hope for positive\, safe\, and stable outcomes to those who need it the most.
X-ALT-DESC;FMTTYPE=text/html:<div>\n<div>\n<div>\n<div>\n<p>Join us on September 14th at The Glass Tower (top floors of the Synergy building in downtown Worcester)\, a<span style="background-color:transparent\; color:var( --e-global-color-38935e9 )\; font-family:var( --e-global-typography-text-font-family )\,sans-serif\; font-size:var( --e-global-typography-text-font-size )">&nbsp\;new and exciting venue\,</span><span style="background-color:transparent\; color:var( --e-global-color-38935e9 )\; font-family:var( --e-global-typography-text-font-family )\,sans-serif\; font-size:var( --e-global-typography-text-font-size )">&nbsp\;for an evening to remember! Enjoy local culinary delights\, live entertainment\, and a silent auction while uplifting CASA&rsquo\;s mission of advocacy for the most vulnerable children in our community.</span><br />\nThis one-of-a-kind event will appeal to a diverse audience and feature multicultural food offerings from local vendors\, as well as an inspiring awards ceremony\, and live entertainment. Champions for Children raises vital funds to help LOCAL children thrive despite the odds being against them. The funds raised will help train&nbsp\;CASA volunteers to amplify the voices of children in need in Worcester County. For sponsors\, this is a chance to change a child&rsquo\;s story and significantly elevate your brand. Individual tickets are also available -- the event WILL sell out early. Your contribution will provide hope for positive\, safe\, and stable outcomes to those who need it the most.</p>\n</div>\n</div>\n</div>\n</div>\n
LOCATION:The Glass Tower 446 Main Street Worcester\, MA
UID:e.2083.16051
SEQUENCE:3
DTSTAMP:20260420T190839Z
URL:https://business.cmschamber.org/events/details/champions-for-children-celebration-casa-project-s-5th-annual-16051
END:VEVENT

END:VCALENDAR
