BEGIN:VCALENDAR
VERSION:2.0
PRODID:-//ChamberMaster//Event Calendar 2.0//EN
METHOD:PUBLISH
X-PUBLISHED-TTL:P3D
REFRESH-INTERVAL:P3D
CALSCALE:GREGORIAN
BEGIN:VEVENT
DTSTART:20231025T160000Z
DTEND:20231025T173000Z
X-MICROSOFT-CDO-ALLDAYEVENT:FALSE
SUMMARY:Clinton Area Chamber of Commerce 2nd Annual Meeting
DESCRIPTION:Please join the Clinton Area Chamber of Commerce for the 2nd Annual Meeting on Wednesday\, October 25\, 2023 from 12:00 - 1:30 pm at the Sterling National Country Club. The meeting will include a keynote speaker\, Clinton Public Schools Superintendent Dr. Steven Meyer\, and an update on the Chamber's initiatives in 2023 and outlook for 2024.
X-ALT-DESC;FMTTYPE=text/html:<span style="font-family:arial\;"><span style="font-size:12px\;">Please join the Clinton Area Chamber of Commerce for the 2nd Annual Meeting on Wednesday\, October 25\, 2023 from 12:00 - 1:30 pm at the Sterling National Country Club. </span><span style="color:#222222\;">The meeting will include a keynote speaker\, Clinton Public Schools </span><strong><span style="color:#222222\;">Superintendent Dr. Steven Meyer</span></strong><span style="color:#222222\;">\, and an update on the Chamber&rsquo\;s initiatives in 2023 and outlook for 2024.</span></span><br />\n<br />\n<br />\n<br />\n&nbsp\;
LOCATION:Sterling National Country Club 33 Albright Rd\, Sterling\, MA
UID:e.2083.14961
SEQUENCE:3
DTSTAMP:20260420T171247Z
URL:https://business.cmschamber.org/events/details/clinton-area-chamber-of-commerce-2nd-annual-meeting-14961
END:VEVENT

END:VCALENDAR
