BEGIN:VCALENDAR
VERSION:2.0
PRODID:-//ChamberMaster//Event Calendar 2.0//EN
METHOD:PUBLISH
X-PUBLISHED-TTL:P3D
REFRESH-INTERVAL:P3D
CALSCALE:GREGORIAN
BEGIN:VEVENT
DTSTART:20230404T210000Z
DTEND:20230404T233000Z
X-MICROSOFT-CDO-ALLDAYEVENT:FALSE
SUMMARY:Clinton Area Chamber of Commerce Business After Hours Networking Event at Clinton Bar & Grille
DESCRIPTION:Business After Hours is an opportunity for you to network with other Chamber members and guests. Meet new contacts\, develop new leads\, and exchange ideas. Join us and dozens of area professionals for a fun\, informal networking event! \n\n\n\nREGISTRATION IS CLOSED (MAX CAPACITY)
X-ALT-DESC;FMTTYPE=text/html:<span style="font-family: arial\; font-size: 14px\;">Business After Hours is an opportunity for you to network with other Chamber members and guests. Meet new contacts\, develop new leads\, and exchange ideas. Join us and dozens of area professionals for a fun\, informal networking event!&nbsp\;<br />\n<br />\n<strong><span style="color:#FF0000\;">REGISTRATION IS CLOSED (MAX CAPACITY)</span></strong></span><br />\n<br />\n<br />\n&nbsp\;
LOCATION:Clintons Bar & Grille 27 High Street Clinton\, MA
UID:e.2083.14889
SEQUENCE:3
DTSTAMP:20260421T042919Z
URL:https://business.cmschamber.org/events/details/clinton-area-chamber-of-commerce-business-after-hours-networking-event-at-clinton-bar-grille-04-04-2023-14889
END:VEVENT

END:VCALENDAR
