BEGIN:VCALENDAR
VERSION:2.0
PRODID:-//ChamberMaster//Event Calendar 2.0//EN
METHOD:PUBLISH
X-PUBLISHED-TTL:P3D
REFRESH-INTERVAL:P3D
CALSCALE:GREGORIAN
BEGIN:VEVENT
DTSTART:20230207T220000Z
DTEND:20230208T003000Z
X-MICROSOFT-CDO-ALLDAYEVENT:FALSE
SUMMARY:Clinton Area Chamber of Commerce Business After Hours Networking Event at Simple Man Saloon
DESCRIPTION:Business After Hours is an opportunity for you to network with other Chamber members and guests. Meet new contacts\, develop new leads\, and exchange ideas. Join us and dozens of area professionals for a fun\, informal networking event!
X-ALT-DESC;FMTTYPE=text/html:<span style="font-family: arial\; font-size: 14px\;">Business After Hours is an opportunity for you to network with other Chamber members and guests. Meet new contacts\, develop new leads\, and exchange ideas. Join us and dozens of area professionals for a fun\, informal networking event!&nbsp\;</span><br />\n<br />\n<br />\n&nbsp\;
LOCATION:Simple Man Saloon 119 High Street Clinton\, MA
UID:e.2083.14886
SEQUENCE:3
DTSTAMP:20260421T075247Z
URL:https://business.cmschamber.org/events/details/clinton-area-chamber-of-commerce-business-after-hours-networking-event-at-simple-man-saloon-14886
END:VEVENT

END:VCALENDAR
